{"text_format":"1","workbook":"xlsx","n_sheets":2,"sheets":["B16 Si Main Draw Prep","MEN 14-34 Main 64"],"not_rendered":{"charts":0,"images":2,"macros":1,"external_links":0,"defined_names":17,"comments":2,"pivot_tables":0},"unopened":[],"bounds":{"document_bytes":16777216,"sheet_cells":100000,"rows_first":2000,"rows_last":500,"rows_between":2000,"halvings":0,"cell_chars":16384,"cell_head_chars":4096},"cells_cut":0,"cells_raw":0,"read":"whole","date_system":"1900"}

{"sheet":"B16 Si Main Draw Prep","index":0,"n_rows":134,"n_cols":19,"rows_kept":134,"cut":false,"hidden":false,"merged":[[4,0,4,1]]}
[{"$f":"#REF!","v":{"$error":"#REF!"}},null,null,"B16","BOYS U16 SINGLES MAIN DRAW"]
[{"$f":"#REF!","v":{"$error":"#REF!"}},null,null,null,"PREPARATION LIST"]
["DO NO DELETE THIS PAGE IF YOU ARE USING LINK-IN'S TO THE DRAW",null,null,null,null,null,null,null,null,null,null,null,null,null,"Referee's signature"]
["Week of",null,"City, Country","Category",null,null,null,null,null,"Referee"]
[{"$f":"#REF!","v":{"$error":"#REF!"}},null,{"$f":"#REF!","v":{"$error":"#REF!"}},{"$f":"#REF!","v":{"$error":"#REF!"}},null,null,null,null,null,{"$f":"#REF!","v":{"$error":"#REF!"}},null,null,null,null,null,null,null,{"$f":"COUNTA(R7:R134)","v":0}]
["Line","Family name","First name","Nat.","Date of birth Day/Mth/Yr","On\nAccept. list\nYes","Signed-in\nYes","EUR 16\nAccept.\nRanking","Pro-\nRanking","National\nAccept\nPriority","NatSort\nif not \nSeed","NatSort","Seed Sort","AccBasic","Accept status","EUR 16\nSeed\nRanking","AccSort","Seed\nPosition","National\nTop 1-4"]
[1,"ΠΑΠΑΓΕΩΡΓΙΟΥ","ΔΗΜΗΤΡΙΟΣ",null,null,null,null,null,null,null,{"$f":"IF(AND(R7=\"\",S7>0,S7<5),L7,)","v":0},{"$f":"IF(D7=\"\",\"ZZZ9\",IF(AND(S7>0,S7<5),D7&S7,D7&\"9\"))","v":"ZZZ9"},{"$f":"IF(R7=\"\",999,R7)","v":999},{"$f":"IF(Q7=999,999,1)","v":999},null,null,{"$f":"IF(O7=\"DA\",1,IF(O7=\"WC\",2,IF(O7=\"SE\",3,IF(O7=\"Q\",4,IF(O7=\"LL\",5,999)))))","v":999}]
[2,"ΚΑΡΑΝΑΓΝΩΣΤΗΣ","ΚΩΝΣΤΑΝΤΙΝΟΣ",null,null,null,null,null,null,null,{"$f":"IF(AND(R8=\"\",S8>0,S8<5),L8,)","v":0},{"$f":"IF(D8=\"\",\"ZZZ9\",IF(AND(S8>0,S8<5),D8&S8,D8&\"9\"))","v":"ZZZ9"},{"$f":"IF(R8=\"\",999,R8)","v":999},{"$f":"IF(Q8=999,999,1)","v":999},null,null,{"$f":"IF(O8=\"DA\",1,IF(O8=\"WC\",2,IF(O8=\"SE\",3,IF(O8=\"Q\",4,IF(O8=\"LL\",5,999)))))","v":999}]
[3,"ΛΑΜΠΡΟΠΟΥΛΟΣ","ΚΛΕΜ",null,null,null,null,null,null,null,0,{"$f":"IF(#REF!=\"\",\"ZZZ9\",IF(AND(S9>0,S9<5),#REF!&S9,#REF!&\"9\"))","v":{"$error":"#REF!"}},999,999,null,null,{"$f":"IF(O9=\"DA\",1,IF(O9=\"WC\",2,IF(O9=\"SE\",3,IF(O9=\"Q\",4,IF(O9=\"LL\",5,999)))))","v":999}]
[4,"ΠΑΝΑΓΙΩΤΟΠΟΥΛΟΣ","ΘΕΟΔΩΡΟΣ",null,null,null,null,null,null,null,0,{"$f":"IF(D9=\"\",\"ZZZ9\",IF(AND(S10>0,S10<5),D9&S10,D9&\"9\"))","v":"ZZZ9"},999,999,null,null,{"$f":"IF(O10=\"DA\",1,IF(O10=\"WC\",2,IF(O10=\"SE\",3,IF(O10=\"Q\",4,IF(O10=\"LL\",5,999)))))","v":999}]
[5,"ΑΝΑΣΤΟΠΟΥΛΟΣ","ΠΑΝΑΓΙΩΤΗΣ",null,null,null,null,null,null,null,0,"ZZZ9",999,999,null,null,{"$f":"IF(O11=\"DA\",1,IF(O11=\"WC\",2,IF(O11=\"SE\",3,IF(O11=\"Q\",4,IF(O11=\"LL\",5,999)))))","v":999}]
[6,"ΑΝΑΣΤΟΠΟΥΛΟΣ","ΝΙΚΟΛΑΟΣ",null,null,null,null,null,null,null,0,"ZZZ9",999,999,null,null,{"$f":"IF(O12=\"DA\",1,IF(O12=\"WC\",2,IF(O12=\"SE\",3,IF(O12=\"Q\",4,IF(O12=\"LL\",5,999)))))","v":999}]
[7,"ΚΑΝΤΖΑΒΕΛΟΣ","ΜΙΧΑΛΗΣ",null,null,null,null,null,null,null,0,"ZZZ9",999,999,null,null,999]
[8,"ΤΖΙΝΗΣ","ΝΙΚΟΛΑΟΣ",null,null,null,null,null,null,null,0,"ZZZ9",999,999,null,null,999]
[9,"ΜΠΟΖΙΟΣ","ΝΙΚΟΛΑΟΣ",null,null,null,null,null,null,null,0,"ZZZ9",999,999,null,null,999]
[10,"ΠΑΤΡΙΝΕΛΗΣ","ΦΩΤΗΣ",null,null,null,null,null,null,null,0,"ZZZ9",999,999,null,null,999]
[11,"ΚΑΝΕΛΛΟΠΟΥΛΟΣ","ΠΕΤΡΟΣ",null,null,null,null,null,null,null,0,{"$f":"IF(#REF!=\"\",\"ZZZ9\",IF(AND(S17>0,S17<5),#REF!&S17,#REF!&\"9\"))","v":{"$error":"#REF!"}},999,999,null,null,999]
[12,"ΠΑΠΑΝΙΚΟΛΑΟΥ","ΕΚΤΩΡΑΣ",null,null,null,null,null,null,null,0,{"$f":"IF(#REF!=\"\",\"ZZZ9\",IF(AND(S18>0,S18<5),#REF!&S18,#REF!&\"9\"))","v":{"$error":"#REF!"}},999,999,null,null,999]
[13,"ΛΕΡΙΚΟΣ","ΑΡΗΣ",null,null,null,null,null,null,null,0,{"$f":"IF(D16=\"\",\"ZZZ9\",IF(AND(S19>0,S19<5),D16&S19,D16&\"9\"))","v":"ZZZ9"},999,999,null,null,999]
[14,"ΣΔΡΑΚΑΣ","ΘΑΝΑΣΗΣ",null,null,null,null,null,null,null,0,{"$f":"IF(D17=\"\",\"ZZZ9\",IF(AND(S20>0,S20<5),D17&S20,D17&\"9\"))","v":"ZZZ9"},999,999,null,null,999]
[15,"ΝΙΚΟΛΟΠΟΥΛΟΣ","ΧΡΗΣΤΟΣ",null,null,null,null,null,null,null,0,{"$f":"IF(D18=\"\",\"ZZZ9\",IF(AND(S21>0,S21<5),D18&S21,D18&\"9\"))","v":"ZZZ9"},999,999,null,null,999]
[16,"ΓΙΑΝΝΟΠΟΥΛΟΣ","ΒΑΣΙΛΗΣ",null,null,null,null,null,null,null,0,{"$f":"IF(D19=\"\",\"ZZZ9\",IF(AND(S22>0,S22<5),D19&S22,D19&\"9\"))","v":"ZZZ9"},999,999,null,null,999]
[17,"ΛΑΛΟΥΣΗΣ","ΚΟΣΜΑΣ",null,null,null,null,null,null,null,0,{"$f":"IF(D20=\"\",\"ZZZ9\",IF(AND(S23>0,S23<5),D20&S23,D20&\"9\"))","v":"ZZZ9"},999,999,null,null,999]
[18,"ΠΑΠΑΒΑΣΙΛΕΙΟΥ","ΣΤΑΥΡΟΣ",null,null,null,null,null,null,null,0,"ZZZ9",999,999,null,null,999]
[19,"ΧΡΙΣΤΟΠΟΥΛΟΣ","ΧΡΗΣΤΟΣ",null,null,null,null,null,null,null,0,"ZZZ9",999,999,null,null,999]
[20,"ΚΑΤΣΙΧΤΗΣ","ΠΑΝΑΓΙΩΤΗΣ",null,null,null,null,null,null,null,0,"ZZZ9",999,999,null,null,999]
[21,"ΣΓΟΥΠΑΚΟΣ","ΠΑΝΑΓΙΩΤΗΣ",null,null,null,null,null,null,null,0,"ZZZ9",999,999,null,null,999]
[22,"ΓΙΑΝΝΑΚΟΠΟΥΛΟΣ","ΓΙΑΝΝΗΣ",null,null,null,null,null,null,null,0,"ZZZ9",999,999,null,null,999]
[23,"ΘΗΒΑΙΟΣ","ΓΙΑΝΝΗΣ",null,null,null,null,null,null,null,0,"ZZZ9",999,999,null,null,999]
[24,"ΔΟΥΚΟΥΜΟΠΟΥΛΟΣ","ΔΗΜΗΤΡΙΟΣ",null,null,null,null,null,null,null,0,"ZZZ9",999,999,null,null,999]
[25,"ΓΕΡΟΔΗΜΟΣ","ΑΠΟΣΤΟΛΟΣ",null,null,null,null,null,null,null,0,"ZZZ9",999,999,null,null,999]
[26,"ΣΠΥΡΑΚΗΣ","ΓΙΩΡΓΟΣ",null,null,null,null,null,null,null,0,"ZZZ9",999,999,null,null,999]
[27,"ΓΙΑΝΝΑΚΟΠΟΥΛΟΣ","ΔΗΜΗΤΡΗΣ",null,null,null,null,null,null,null,0,"ZZZ9",999,999,null,null,999]
[28,"ΓΑΛΑΝΗΣ","ΝΙΚΟΣ",null,null,null,null,null,null,null,0,"ZZZ9",999,999,null,null,999]
[29,"ΚΑΡΕΛΑΣ","ΠΑΝΑΓΙΩΤΗΣ",null,null,null,null,null,null,null,0,"ZZZ9",999,999,null,null,999]
[30,"ΠΑΠΑΝΙΚΟΛΑΟΥ","ΝΤΥΛΑΝ",null,null,null,null,null,null,null,0,"ZZZ9",999,999,null,null,999]
[31,"ΤΣΟΥΚΛΕΡΗΣ","ΓΙΩΡΓΟΣ",null,null,null,null,null,null,null,0,"ZZZ9",999,999,null,null,999]
[32,"ΖΙΤΣΑΣ","ΓΙΩΡΓΟΣ",null,null,null,null,null,null,null,0,"ZZZ9",999,999,null,null,999]
[33,"ΧΙΩΤΗΣ","ΠΑΝΑΓΙΩΤΗΣ",null,null,null,null,null,null,null,0,"ZZZ9",999,999,null,null,999]
[34,"ΔΙΑΜΑΝΤΟΠΟΥΛΟΣ","ΠΑΝΑΓΙΩΤΗΣ",null,null,null,null,null,null,null,0,"ZZZ9",999,999,null,null,999]
[35,null,null,null,null,null,null,null,null,null,0,"ZZZ9",999,999,null,null,999]
[36,null,null,null,null,null,null,null,null,null,0,"ZZZ9",999,999,null,null,999]
[37,null,null,null,null,null,null,null,null,null,0,"ZZZ9",999,999,null,null,999]
[38,null,null,null,null,null,null,null,null,null,0,"ZZZ9",999,999,null,null,999]
[39,null,null,null,null,null,null,null,null,null,0,"ZZZ9",999,999,null,null,999]
[40,null,null,null,null,null,null,null,null,null,0,"ZZZ9",999,999,null,null,999]
[41,null,null,null,null,null,null,null,null,null,0,"ZZZ9",999,999,null,null,999]
[42,null,null,null,null,null,null,null,null,null,0,"ZZZ9",999,999,null,null,999]
[43,null,null,null,null,null,null,null,null,null,0,"ZZZ9",999,999,null,null,999]
[44,null,null,null,null,null,null,null,null,null,0,"ZZZ9",999,999,null,null,999]
[45,null,null,null,null,null,null,null,null,null,0,"ZZZ9",999,999,null,null,999]
[46,null,null,null,null,null,null,null,null,null,0,"ZZZ9",999,999,null,null,999]
[47,null,null,null,null,null,null,null,null,null,0,"ZZZ9",999,999,null,null,999]
[48,null,null,null,null,null,null,null,null,null,0,"ZZZ9",999,999,null,null,999]
[49,null,null,null,null,null,null,null,null,null,0,"ZZZ9",999,999,null,null,999]
[50,null,null,null,null,null,null,null,null,null,0,"ZZZ9",999,999,null,null,999]
[51,null,null,null,null,null,null,null,null,null,0,"ZZZ9",999,999,null,null,999]
[52,null,null,null,null,null,null,null,null,null,0,"ZZZ9",999,999,null,null,999]
[53,null,null,null,null,null,null,null,null,null,0,"ZZZ9",999,999,null,null,999]
[54,null,null,null,null,null,null,null,null,null,0,"ZZZ9",999,999,null,null,999]
[55,null,null,null,null,null,null,null,null,null,0,"ZZZ9",999,999,null,null,999]
[56,null,null,null,null,null,null,null,null,null,0,"ZZZ9",999,999,null,null,999]
[57,null,null,null,null,null,null,null,null,null,0,"ZZZ9",999,999,null,null,999]
[58,null,null,null,null,null,null,null,null,null,0,"ZZZ9",999,999,null,null,999]
[59,null,null,null,null,null,null,null,null,null,0,"ZZZ9",999,999,null,null,999]
[60,null,null,null,null,null,null,null,null,null,0,"ZZZ9",999,999,null,null,999]
[61,null,null,null,null,null,null,null,null,null,0,"ZZZ9",999,999,null,null,999]
[62,null,null,null,null,null,null,null,null,null,0,"ZZZ9",999,999,null,null,999]
[63,null,null,null,null,null,null,null,null,null,0,"ZZZ9",999,999,null,null,999]
[64,null,null,null,null,null,null,null,null,null,0,"ZZZ9",999,999,null,null,999]
[65,null,null,null,null,null,null,null,null,null,0,"ZZZ9",999,999,null,null,999]
[66,null,null,null,null,null,null,null,null,null,{"$f":"IF(AND(R72=\"\",S72>0,S72<5),L72,)","v":0},{"$f":"IF(D72=\"\",\"ZZZ9\",IF(AND(S72>0,S72<5),D72&S72,D72&\"9\"))","v":"ZZZ9"},{"$f":"IF(R72=\"\",999,R72)","v":999},{"$f":"IF(Q72=999,999,1)","v":999},null,null,999]
[67,null,null,null,null,null,null,null,null,null,0,"ZZZ9",999,999,null,null,999]
[68,null,null,null,null,null,null,null,null,null,0,"ZZZ9",999,999,null,null,999]
[69,null,null,null,null,null,null,null,null,null,0,"ZZZ9",999,999,null,null,999]
[70,null,null,null,null,null,null,null,null,null,0,"ZZZ9",999,999,null,null,{"$f":"IF(O76=\"DA\",1,IF(O76=\"WC\",2,IF(O76=\"SE\",3,IF(O76=\"Q\",4,IF(O76=\"LL\",5,999)))))","v":999}]
[71,null,null,null,null,null,null,null,null,null,0,"ZZZ9",999,999,null,null,999]
[72,null,null,null,null,null,null,null,null,null,0,"ZZZ9",999,999,null,null,999]
[73,null,null,null,null,null,null,null,null,null,0,"ZZZ9",999,999,null,null,999]
[74,null,null,null,null,null,null,null,null,null,0,"ZZZ9",999,999,null,null,999]
[75,null,null,null,null,null,null,null,null,null,0,"ZZZ9",999,999,null,null,999]
[76,null,null,null,null,null,null,null,null,null,0,"ZZZ9",999,999,null,null,999]
[77,null,null,null,null,null,null,null,null,null,0,"ZZZ9",999,999,null,null,999]
[78,null,null,null,null,null,null,null,null,null,0,"ZZZ9",999,999,null,null,999]
[79,null,null,null,null,null,null,null,null,null,0,"ZZZ9",999,999,null,null,999]
[80,null,null,null,null,null,null,null,null,null,0,"ZZZ9",999,999,null,null,999]
[81,null,null,null,null,null,null,null,null,null,0,"ZZZ9",999,999,null,null,999]
[82,null,null,null,null,null,null,null,null,null,0,"ZZZ9",999,999,null,null,999]
[83,null,null,null,null,null,null,null,null,null,0,"ZZZ9",999,999,null,null,999]
[84,null,null,null,null,null,null,null,null,null,0,"ZZZ9",999,999,null,null,999]
[85,null,null,null,null,null,null,null,null,null,0,"ZZZ9",999,999,null,null,999]
[86,null,null,null,null,null,null,null,null,null,0,"ZZZ9",999,999,null,null,999]
[87,null,null,null,null,null,null,null,null,null,0,"ZZZ9",999,999,null,null,999]
[88,null,null,null,null,null,null,null,null,null,0,"ZZZ9",999,999,null,null,999]
[89,null,null,null,null,null,null,null,null,null,0,"ZZZ9",999,999,null,null,999]
[90,null,null,null,null,null,null,null,null,null,0,"ZZZ9",999,999,null,null,999]
[91,null,null,null,null,null,null,null,null,null,0,"ZZZ9",999,999,null,null,999]
[92,null,null,null,null,null,null,null,null,null,0,"ZZZ9",999,999,null,null,999]
[93,null,null,null,null,null,null,null,null,null,0,"ZZZ9",999,999,null,null,999]
[94,null,null,null,null,null,null,null,null,null,0,"ZZZ9",999,999,null,null,999]
[95,null,null,null,null,null,null,null,null,null,0,"ZZZ9",999,999,null,null,999]
[96,null,null,null,null,null,null,null,null,null,0,"ZZZ9",999,999,null,null,999]
[97,null,null,null,null,null,null,null,null,null,0,"ZZZ9",999,999,null,null,999]
[98,null,null,null,null,null,null,null,null,null,0,"ZZZ9",999,999,null,null,999]
[99,null,null,null,null,null,null,null,null,null,0,"ZZZ9",999,999,null,null,999]
[100,null,null,null,null,null,null,null,null,null,0,"ZZZ9",999,999,null,null,999]
[101,null,null,null,null,null,null,null,null,null,0,"ZZZ9",999,999,null,null,999]
[102,null,null,null,null,null,null,null,null,null,0,"ZZZ9",999,999,null,null,999]
[103,null,null,null,null,null,null,null,null,null,0,"ZZZ9",999,999,null,null,999]
[104,null,null,null,null,null,null,null,null,null,0,"ZZZ9",999,999,null,null,999]
[105,null,null,null,null,null,null,null,null,null,0,"ZZZ9",999,999,null,null,999]
[106,null,null,null,null,null,null,null,null,null,0,"ZZZ9",999,999,null,null,999]
[107,null,null,null,null,null,null,null,null,null,0,"ZZZ9",999,999,null,null,999]
[108,null,null,null,null,null,null,null,null,null,0,"ZZZ9",999,999,null,null,999]
[109,null,null,null,null,null,null,null,null,null,0,"ZZZ9",999,999,null,null,999]
[110,null,null,null,null,null,null,null,null,null,0,"ZZZ9",999,999,null,null,999]
[111,null,null,null,null,null,null,null,null,null,0,"ZZZ9",999,999,null,null,999]
[112,null,null,null,null,null,null,null,null,null,0,"ZZZ9",999,999,null,null,999]
[113,null,null,null,null,null,null,null,null,null,0,"ZZZ9",999,999,null,null,999]
[114,null,null,null,null,null,null,null,null,null,0,"ZZZ9",999,999,null,null,999]
[115,null,null,null,null,null,null,null,null,null,0,"ZZZ9",999,999,null,null,999]
[116,null,null,null,null,null,null,null,null,null,0,"ZZZ9",999,999,null,null,999]
[117,null,null,null,null,null,null,null,null,null,0,"ZZZ9",999,999,null,null,999]
[118,null,null,null,null,null,null,null,null,null,0,"ZZZ9",999,999,null,null,999]
[119,null,null,null,null,null,null,null,null,null,0,"ZZZ9",999,999,null,null,999]
[120,null,null,null,null,null,null,null,null,null,0,"ZZZ9",999,999,null,null,999]
[121,null,null,null,null,null,null,null,null,null,0,"ZZZ9",999,999,null,null,999]
[122,null,null,null,null,null,null,null,null,null,0,"ZZZ9",999,999,null,null,999]
[123,null,null,null,null,null,null,null,null,null,0,"ZZZ9",999,999,null,null,999]
[124,null,null,null,null,null,null,null,null,null,0,"ZZZ9",999,999,null,null,999]
[125,null,null,null,null,null,null,null,null,null,0,"ZZZ9",999,999,null,null,999]
[126,null,null,null,null,null,null,null,null,null,0,"ZZZ9",999,999,null,null,999]
[127,null,null,null,null,null,null,null,null,null,0,"ZZZ9",999,999,null,null,999]
[128,null,null,null,null,null,null,null,null,null,0,"ZZZ9",999,999,null,null,999]

{"sheet":"MEN 14-34 Main 64","index":1,"n_rows":80,"n_cols":20,"rows_kept":80,"cut":false,"hidden":false,"merged":[[3,0,3,2]]}
["ΚΟΛΟΚΟΤΡΩΝΕΙΑ 2017",null,null,null,null,null,null,null,null,null,null,null,null,"CU"]
["TRIPOLIS TENNIS OPEN",null,null,null,null,null,"MEN 14-34  MAIN DRAW (64)"]
["Week of",null,null,null,null,"City, Country",null,null,null,null,null,"Tourn. ID",null,null,null,null,"ITF Referee"]
[null,null,null,null,null,"ΤΡΙΠΟΛΗ - AEK ΤΡΙΠΟΛΗΣ",null,null,null,null,null,"OPEN",null,"ΠΑΠΑΔΟΠΟΥΛΟΣ - ΧΑΤΖΗΓΙΑΝΝΗ"]
[null,"St.","Rank","Seed","Family Name","First name",null,"Nationality",null,"2nd Round",null,"3rd Round",null,"Quarterfinals",null,"Semifinals"]
[]
["1",{"$f":"IF($D7=\"\",\"\",VLOOKUP($D7,'B16 Si Main Draw Prep'!$A$7:$P$70,15))","v":""},{"$f":"IF($D7=\"\",\"\",VLOOKUP($D7,'B16 Si Main Draw Prep'!$A$7:$P$70,16))","v":""},null,"ΧΡIΣΤΟΠΟΥΛΟΣ ΧΡΗΣΤΟΣ",{"$f":"IF($D7=\"\",\"\",VLOOKUP($D7,'B16 Si Main Draw Prep'!$A$7:$P$70,3))","v":""},null,{"$f":"IF($D7=\"\",\"\",VLOOKUP($D7,'B16 Si Main Draw Prep'!$A$7:$P$70,4))","v":""},null,{"$f":"UPPER(IF(OR(I8=\"a\",I8=\"as\"),E7,IF(OR(I8=\"b\",I8=\"bs\"),E8,)))","v":"ΧΡIΣΤΟΠΟΥΛΟΣ ΧΡΗΣΤΟΣ"},null,null,null,null,null,null,null,null,null,{"$f":"#REF!","v":{"$error":"#REF!"}}]
["2",{"$f":"IF($D8=\"\",\"\",VLOOKUP($D8,'B16 Si Main Draw Prep'!$A$7:$P$70,15))","v":""},{"$f":"IF($D8=\"\",\"\",VLOOKUP($D8,'B16 Si Main Draw Prep'!$A$7:$P$70,16))","v":""},null,"BYE",{"$f":"IF($D8=\"\",\"\",VLOOKUP($D8,'B16 Si Main Draw Prep'!$A$7:$P$70,3))","v":""},null,{"$f":"IF($D8=\"\",\"\",VLOOKUP($D8,'B16 Si Main Draw Prep'!$A$7:$P$70,4))","v":""},"A",null,null,{"$f":"UPPER(IF(OR(K8=\"a\",K8=\"as\"),J7,IF(OR(K8=\"b\",K8=\"bs\"),J9,)))","v":""},null,null,null,null,null,null,null,{"$f":"#REF!","v":{"$error":"#REF!"}}]
["3",{"$f":"IF($D9=\"\",\"\",VLOOKUP($D9,'B16 Si Main Draw Prep'!$A$7:$P$70,15))","v":""},{"$f":"IF($D9=\"\",\"\",VLOOKUP($D9,'B16 Si Main Draw Prep'!$A$7:$P$70,16))","v":""},null,"BYE",{"$f":"IF($D9=\"\",\"\",VLOOKUP($D9,'B16 Si Main Draw Prep'!$A$7:$P$70,3))","v":""},null,{"$f":"IF($D9=\"\",\"\",VLOOKUP($D9,'B16 Si Main Draw Prep'!$A$7:$P$70,4))","v":""},null,{"$f":"UPPER(IF(OR(I10=\"a\",I10=\"as\"),E9,IF(OR(I10=\"b\",I10=\"bs\"),E10,)))","v":"ΠΑΤΡΙΝΕΛΗΣ"},null,null,null,null,null,null,null,null,null,{"$f":"#REF!","v":{"$error":"#REF!"}}]
["4",{"$f":"IF($D10=\"\",\"\",VLOOKUP($D10,'B16 Si Main Draw Prep'!$A$7:$P$70,15))","v":0},{"$f":"IF($D10=\"\",\"\",VLOOKUP($D10,'B16 Si Main Draw Prep'!$A$7:$P$70,16))","v":0},10,{"$f":"UPPER(IF($D10=\"\",\"\",VLOOKUP($D10,'B16 Si Main Draw Prep'!$A$7:$P$70,2)))","v":"ΠΑΤΡΙΝΕΛΗΣ"},{"$f":"IF($D10=\"\",\"\",VLOOKUP($D10,'B16 Si Main Draw Prep'!$A$7:$P$70,3))","v":"ΦΩΤΗΣ"},null,{"$f":"IF($D10=\"\",\"\",VLOOKUP($D10,'B16 Si Main Draw Prep'!$A$7:$P$70,4))","v":0},"B",null,null,"Umpire",null,{"$f":"UPPER(IF(OR(M10=\"a\",M10=\"as\"),L8,IF(OR(M10=\"b\",M10=\"bs\"),L12,)))","v":""},null,null,null,null,null,{"$f":"#REF!","v":{"$error":"#REF!"}}]
["5",{"$f":"IF($D11=\"\",\"\",VLOOKUP($D11,'B16 Si Main Draw Prep'!$A$7:$P$70,15))","v":""},{"$f":"IF($D11=\"\",\"\",VLOOKUP($D11,'B16 Si Main Draw Prep'!$A$7:$P$70,16))","v":""},null,"BYE",{"$f":"IF($D11=\"\",\"\",VLOOKUP($D11,'B16 Si Main Draw Prep'!$A$7:$P$70,3))","v":""},null,{"$f":"IF($D11=\"\",\"\",VLOOKUP($D11,'B16 Si Main Draw Prep'!$A$7:$P$70,4))","v":""},null,{"$f":"UPPER(IF(OR(I12=\"a\",I12=\"as\"),E11,IF(OR(I12=\"b\",I12=\"bs\"),E12,)))","v":"ΜΠΟΖΙΟΣ"},null,null,null,null,null,null,null,null,null,{"$f":"#REF!","v":{"$error":"#REF!"}}]
["6",{"$f":"IF($D12=\"\",\"\",VLOOKUP($D12,'B16 Si Main Draw Prep'!$A$7:$P$70,15))","v":0},{"$f":"IF($D12=\"\",\"\",VLOOKUP($D12,'B16 Si Main Draw Prep'!$A$7:$P$70,16))","v":0},9,{"$f":"UPPER(IF($D12=\"\",\"\",VLOOKUP($D12,'B16 Si Main Draw Prep'!$A$7:$P$70,2)))","v":"ΜΠΟΖΙΟΣ"},{"$f":"IF($D12=\"\",\"\",VLOOKUP($D12,'B16 Si Main Draw Prep'!$A$7:$P$70,3))","v":"ΝΙΚΟΛΑΟΣ"},null,{"$f":"IF($D12=\"\",\"\",VLOOKUP($D12,'B16 Si Main Draw Prep'!$A$7:$P$70,4))","v":0},"B",null,null,{"$f":"UPPER(IF(OR(K12=\"a\",K12=\"as\"),J11,IF(OR(K12=\"b\",K12=\"bs\"),J13,)))","v":""},null,null,null,null,null,null,null,{"$f":"#REF!","v":{"$error":"#REF!"}}]
["7",{"$f":"IF($D13=\"\",\"\",VLOOKUP($D13,'B16 Si Main Draw Prep'!$A$7:$P$70,15))","v":""},{"$f":"IF($D13=\"\",\"\",VLOOKUP($D13,'B16 Si Main Draw Prep'!$A$7:$P$70,16))","v":""},null,"BYE",{"$f":"IF($D13=\"\",\"\",VLOOKUP($D13,'B16 Si Main Draw Prep'!$A$7:$P$70,3))","v":""},null,{"$f":"IF($D13=\"\",\"\",VLOOKUP($D13,'B16 Si Main Draw Prep'!$A$7:$P$70,4))","v":""},null,{"$f":"UPPER(IF(OR(I14=\"a\",I14=\"as\"),E13,IF(OR(I14=\"b\",I14=\"bs\"),E14,)))","v":"ΧΙΩΤΗΣ ΠΑΝΑΓΙΩΤΗΣ"},null,null,null,null,null,null,null,null,null,{"$f":"#REF!","v":{"$error":"#REF!"}}]
["8",{"$f":"IF($D14=\"\",\"\",VLOOKUP($D14,'B16 Si Main Draw Prep'!$A$7:$P$70,15))","v":""},{"$f":"IF($D14=\"\",\"\",VLOOKUP($D14,'B16 Si Main Draw Prep'!$A$7:$P$70,16))","v":""},null,"ΧΙΩΤΗΣ ΠΑΝΑΓΙΩΤΗΣ",{"$f":"IF($D14=\"\",\"\",VLOOKUP($D14,'B16 Si Main Draw Prep'!$A$7:$P$70,3))","v":""},null,{"$f":"IF($D14=\"\",\"\",VLOOKUP($D14,'B16 Si Main Draw Prep'!$A$7:$P$70,4))","v":""},"B",null,null,null,null,"Umpire",null,{"$f":"UPPER(IF(OR(O14=\"a\",O14=\"as\"),N10,IF(OR(O14=\"b\",O14=\"bs\"),N18,)))","v":""},null,null,null,{"$f":"#REF!","v":{"$error":"#REF!"}}]
["9",{"$f":"IF($D15=\"\",\"\",VLOOKUP($D15,'B16 Si Main Draw Prep'!$A$7:$P$70,15))","v":""},{"$f":"IF($D15=\"\",\"\",VLOOKUP($D15,'B16 Si Main Draw Prep'!$A$7:$P$70,16))","v":""},null,"ΖΔΡΑΚΑΣ ΘΑΝΑΣΗΣ",{"$f":"IF($D15=\"\",\"\",VLOOKUP($D15,'B16 Si Main Draw Prep'!$A$7:$P$70,3))","v":""},null,{"$f":"IF($D15=\"\",\"\",VLOOKUP($D15,'B16 Si Main Draw Prep'!$A$7:$P$70,4))","v":""},null,{"$f":"UPPER(IF(OR(I16=\"a\",I16=\"as\"),E15,IF(OR(I16=\"b\",I16=\"bs\"),E16,)))","v":"ΖΔΡΑΚΑΣ ΘΑΝΑΣΗΣ"},null,null,null,null,null,null,null,null,null,{"$f":"#REF!","v":{"$error":"#REF!"}}]
["10",{"$f":"IF($D16=\"\",\"\",VLOOKUP($D16,'B16 Si Main Draw Prep'!$A$7:$P$70,15))","v":""},{"$f":"IF($D16=\"\",\"\",VLOOKUP($D16,'B16 Si Main Draw Prep'!$A$7:$P$70,16))","v":""},null,"BYE",{"$f":"IF($D16=\"\",\"\",VLOOKUP($D16,'B16 Si Main Draw Prep'!$A$7:$P$70,3))","v":""},null,{"$f":"IF($D16=\"\",\"\",VLOOKUP($D16,'B16 Si Main Draw Prep'!$A$7:$P$70,4))","v":""},"A",null,null,{"$f":"UPPER(IF(OR(K16=\"a\",K16=\"as\"),J15,IF(OR(K16=\"b\",K16=\"bs\"),J17,)))","v":""},null,null,null,null,null,null,null,{"$f":"#REF!","v":{"$error":"#REF!"}}]
["11",{"$f":"IF($D17=\"\",\"\",VLOOKUP($D17,'B16 Si Main Draw Prep'!$A$7:$P$70,15))","v":0},{"$f":"IF($D17=\"\",\"\",VLOOKUP($D17,'B16 Si Main Draw Prep'!$A$7:$P$70,16))","v":0},30,{"$f":"UPPER(IF($D17=\"\",\"\",VLOOKUP($D17,'B16 Si Main Draw Prep'!$A$7:$P$70,2)))","v":"ΠΑΠΑΝΙΚΟΛΑΟΥ"},{"$f":"IF($D17=\"\",\"\",VLOOKUP($D17,'B16 Si Main Draw Prep'!$A$7:$P$70,3))","v":"ΝΤΥΛΑΝ"},null,{"$f":"IF($D17=\"\",\"\",VLOOKUP($D17,'B16 Si Main Draw Prep'!$A$7:$P$70,4))","v":0},null,{"$f":"UPPER(IF(OR(I18=\"a\",I18=\"as\"),E17,IF(OR(I18=\"b\",I18=\"bs\"),E18,)))","v":"ΠΑΠΑΝΙΚΟΛΑΟΥ"}]
["12",{"$f":"IF($D18=\"\",\"\",VLOOKUP($D18,'B16 Si Main Draw Prep'!$A$7:$P$70,15))","v":""},{"$f":"IF($D18=\"\",\"\",VLOOKUP($D18,'B16 Si Main Draw Prep'!$A$7:$P$70,16))","v":""},null,"BYE",{"$f":"IF($D18=\"\",\"\",VLOOKUP($D18,'B16 Si Main Draw Prep'!$A$7:$P$70,3))","v":""},null,{"$f":"IF($D18=\"\",\"\",VLOOKUP($D18,'B16 Si Main Draw Prep'!$A$7:$P$70,4))","v":""},"A",null,null,"Umpire",null,{"$f":"UPPER(IF(OR(M18=\"a\",M18=\"as\"),L16,IF(OR(M18=\"b\",M18=\"bs\"),L20,)))","v":""}]
["13",{"$f":"IF($D19=\"\",\"\",VLOOKUP($D19,'B16 Si Main Draw Prep'!$A$7:$P$70,15))","v":""},{"$f":"IF($D19=\"\",\"\",VLOOKUP($D19,'B16 Si Main Draw Prep'!$A$7:$P$70,16))","v":""},null,"BYE",{"$f":"IF($D19=\"\",\"\",VLOOKUP($D19,'B16 Si Main Draw Prep'!$A$7:$P$70,3))","v":""},null,{"$f":"IF($D19=\"\",\"\",VLOOKUP($D19,'B16 Si Main Draw Prep'!$A$7:$P$70,4))","v":""},null,{"$f":"UPPER(IF(OR(I20=\"a\",I20=\"as\"),E19,IF(OR(I20=\"b\",I20=\"bs\"),E20,)))","v":"ΔΟΥΚΟΥΜΟΠΟΥΛΟΣ"}]
["14",{"$f":"IF($D20=\"\",\"\",VLOOKUP($D20,'B16 Si Main Draw Prep'!$A$7:$P$70,15))","v":0},{"$f":"IF($D20=\"\",\"\",VLOOKUP($D20,'B16 Si Main Draw Prep'!$A$7:$P$70,16))","v":0},24,{"$f":"UPPER(IF($D20=\"\",\"\",VLOOKUP($D20,'B16 Si Main Draw Prep'!$A$7:$P$70,2)))","v":"ΔΟΥΚΟΥΜΟΠΟΥΛΟΣ"},{"$f":"IF($D20=\"\",\"\",VLOOKUP($D20,'B16 Si Main Draw Prep'!$A$7:$P$70,3))","v":"ΔΗΜΗΤΡΙΟΣ"},null,{"$f":"IF($D20=\"\",\"\",VLOOKUP($D20,'B16 Si Main Draw Prep'!$A$7:$P$70,4))","v":0},"B",null,null,{"$f":"UPPER(IF(OR(K20=\"a\",K20=\"as\"),J19,IF(OR(K20=\"b\",K20=\"bs\"),J21,)))","v":""}]
["15",{"$f":"IF($D21=\"\",\"\",VLOOKUP($D21,'B16 Si Main Draw Prep'!$A$7:$P$70,15))","v":""},{"$f":"IF($D21=\"\",\"\",VLOOKUP($D21,'B16 Si Main Draw Prep'!$A$7:$P$70,16))","v":""},null,"BYE",{"$f":"IF($D21=\"\",\"\",VLOOKUP($D21,'B16 Si Main Draw Prep'!$A$7:$P$70,3))","v":""},null,{"$f":"IF($D21=\"\",\"\",VLOOKUP($D21,'B16 Si Main Draw Prep'!$A$7:$P$70,4))","v":""},null,{"$f":"UPPER(IF(OR(I22=\"a\",I22=\"as\"),E21,IF(OR(I22=\"b\",I22=\"bs\"),E22,)))","v":"ΓΕΡΟΔΗΜΟΣ ΑΠΟΣΤΟΛΟΣ"}]
["16",{"$f":"IF($D22=\"\",\"\",VLOOKUP($D22,'B16 Si Main Draw Prep'!$A$7:$P$70,15))","v":""},{"$f":"IF($D22=\"\",\"\",VLOOKUP($D22,'B16 Si Main Draw Prep'!$A$7:$P$70,16))","v":""},null,"ΓΕΡΟΔΗΜΟΣ ΑΠΟΣΤΟΛΟΣ",{"$f":"IF($D22=\"\",\"\",VLOOKUP($D22,'B16 Si Main Draw Prep'!$A$7:$P$70,3))","v":""},null,{"$f":"IF($D22=\"\",\"\",VLOOKUP($D22,'B16 Si Main Draw Prep'!$A$7:$P$70,4))","v":""},"B",null,null,null,null,"Finalist 1:",null,{"$f":"UPPER(IF(OR(O23=\"a\",O23=\"as\"),P14,IF(OR(O23=\"b\",O23=\"bs\"),P30,)))","v":""}]
["17",{"$f":"IF($D23=\"\",\"\",VLOOKUP($D23,'B16 Si Main Draw Prep'!$A$7:$P$70,15))","v":""},{"$f":"IF($D23=\"\",\"\",VLOOKUP($D23,'B16 Si Main Draw Prep'!$A$7:$P$70,16))","v":""},null,"ΚΑΡΕΛΑΣ ΠΑΝΑΓΙΩΤΗΣ",{"$f":"IF($D23=\"\",\"\",VLOOKUP($D23,'B16 Si Main Draw Prep'!$A$7:$P$70,3))","v":""},null,{"$f":"IF($D23=\"\",\"\",VLOOKUP($D23,'B16 Si Main Draw Prep'!$A$7:$P$70,4))","v":""},null,{"$f":"UPPER(IF(OR(I24=\"a\",I24=\"as\"),E23,IF(OR(I24=\"b\",I24=\"bs\"),E24,)))","v":"ΚΑΡΕΛΑΣ ΠΑΝΑΓΙΩΤΗΣ"},null,null,null,"Umpire"]
["18",{"$f":"IF($D24=\"\",\"\",VLOOKUP($D24,'B16 Si Main Draw Prep'!$A$7:$P$70,15))","v":""},{"$f":"IF($D24=\"\",\"\",VLOOKUP($D24,'B16 Si Main Draw Prep'!$A$7:$P$70,16))","v":""},null,"BYE",{"$f":"IF($D24=\"\",\"\",VLOOKUP($D24,'B16 Si Main Draw Prep'!$A$7:$P$70,3))","v":""},null,{"$f":"IF($D24=\"\",\"\",VLOOKUP($D24,'B16 Si Main Draw Prep'!$A$7:$P$70,4))","v":""},"A",null,null,{"$f":"UPPER(IF(OR(K24=\"a\",K24=\"as\"),J23,IF(OR(K24=\"b\",K24=\"bs\"),J25,)))","v":""}]
["19",{"$f":"IF($D25=\"\",\"\",VLOOKUP($D25,'B16 Si Main Draw Prep'!$A$7:$P$70,15))","v":0},{"$f":"IF($D25=\"\",\"\",VLOOKUP($D25,'B16 Si Main Draw Prep'!$A$7:$P$70,16))","v":0},20,{"$f":"UPPER(IF($D25=\"\",\"\",VLOOKUP($D25,'B16 Si Main Draw Prep'!$A$7:$P$70,2)))","v":"ΚΑΤΣΙΧΤΗΣ"},{"$f":"IF($D25=\"\",\"\",VLOOKUP($D25,'B16 Si Main Draw Prep'!$A$7:$P$70,3))","v":"ΠΑΝΑΓΙΩΤΗΣ"},null,{"$f":"IF($D25=\"\",\"\",VLOOKUP($D25,'B16 Si Main Draw Prep'!$A$7:$P$70,4))","v":0},null,{"$f":"UPPER(IF(OR(I26=\"a\",I26=\"as\"),E25,IF(OR(I26=\"b\",I26=\"bs\"),E26,)))","v":""}]
["20",{"$f":"IF($D26=\"\",\"\",VLOOKUP($D26,'B16 Si Main Draw Prep'!$A$7:$P$70,15))","v":0},{"$f":"IF($D26=\"\",\"\",VLOOKUP($D26,'B16 Si Main Draw Prep'!$A$7:$P$70,16))","v":0},31,{"$f":"UPPER(IF($D26=\"\",\"\",VLOOKUP($D26,'B16 Si Main Draw Prep'!$A$7:$P$70,2)))","v":"ΤΣΟΥΚΛΕΡΗΣ"},{"$f":"IF($D26=\"\",\"\",VLOOKUP($D26,'B16 Si Main Draw Prep'!$A$7:$P$70,3))","v":"ΓΙΩΡΓΟΣ"},null,{"$f":"IF($D26=\"\",\"\",VLOOKUP($D26,'B16 Si Main Draw Prep'!$A$7:$P$70,4))","v":0},null,null,null,"Umpire",null,{"$f":"UPPER(IF(OR(M26=\"a\",M26=\"as\"),L24,IF(OR(M26=\"b\",M26=\"bs\"),L28,)))","v":""}]
["21",{"$f":"IF($D27=\"\",\"\",VLOOKUP($D27,'B16 Si Main Draw Prep'!$A$7:$P$70,15))","v":""},{"$f":"IF($D27=\"\",\"\",VLOOKUP($D27,'B16 Si Main Draw Prep'!$A$7:$P$70,16))","v":""},null,"BYE",{"$f":"IF($D27=\"\",\"\",VLOOKUP($D27,'B16 Si Main Draw Prep'!$A$7:$P$70,3))","v":""},null,{"$f":"IF($D27=\"\",\"\",VLOOKUP($D27,'B16 Si Main Draw Prep'!$A$7:$P$70,4))","v":""},null,{"$f":"UPPER(IF(OR(I28=\"a\",I28=\"as\"),E27,IF(OR(I28=\"b\",I28=\"bs\"),E28,)))","v":"ΠΑΠΑΓΕΩΡΓΙΟΥ"}]
["22",{"$f":"IF($D28=\"\",\"\",VLOOKUP($D28,'B16 Si Main Draw Prep'!$A$7:$P$70,15))","v":0},{"$f":"IF($D28=\"\",\"\",VLOOKUP($D28,'B16 Si Main Draw Prep'!$A$7:$P$70,16))","v":0},1,{"$f":"UPPER(IF($D28=\"\",\"\",VLOOKUP($D28,'B16 Si Main Draw Prep'!$A$7:$P$70,2)))","v":"ΠΑΠΑΓΕΩΡΓΙΟΥ"},{"$f":"IF($D28=\"\",\"\",VLOOKUP($D28,'B16 Si Main Draw Prep'!$A$7:$P$70,3))","v":"ΔΗΜΗΤΡΙΟΣ"},null,{"$f":"IF($D28=\"\",\"\",VLOOKUP($D28,'B16 Si Main Draw Prep'!$A$7:$P$70,4))","v":0},"B",null,null,{"$f":"UPPER(IF(OR(K28=\"a\",K28=\"as\"),J27,IF(OR(K28=\"b\",K28=\"bs\"),J29,)))","v":""}]
["23",{"$f":"IF($D29=\"\",\"\",VLOOKUP($D29,'B16 Si Main Draw Prep'!$A$7:$P$70,15))","v":""},{"$f":"IF($D29=\"\",\"\",VLOOKUP($D29,'B16 Si Main Draw Prep'!$A$7:$P$70,16))","v":""},null,"BYE",{"$f":"IF($D29=\"\",\"\",VLOOKUP($D29,'B16 Si Main Draw Prep'!$A$7:$P$70,3))","v":""},null,{"$f":"IF($D29=\"\",\"\",VLOOKUP($D29,'B16 Si Main Draw Prep'!$A$7:$P$70,4))","v":""},null,{"$f":"UPPER(IF(OR(I30=\"a\",I30=\"as\"),E29,IF(OR(I30=\"b\",I30=\"bs\"),E30,)))","v":"ΛΑΛΟΥΣΗΣ ΚΟΣΜΑΣ"}]
["24",{"$f":"IF($D30=\"\",\"\",VLOOKUP($D30,'B16 Si Main Draw Prep'!$A$7:$P$70,15))","v":""},{"$f":"IF($D30=\"\",\"\",VLOOKUP($D30,'B16 Si Main Draw Prep'!$A$7:$P$70,16))","v":""},null,"ΛΑΛΟΥΣΗΣ ΚΟΣΜΑΣ",{"$f":"IF($D30=\"\",\"\",VLOOKUP($D30,'B16 Si Main Draw Prep'!$A$7:$P$70,3))","v":""},null,{"$f":"IF($D30=\"\",\"\",VLOOKUP($D30,'B16 Si Main Draw Prep'!$A$7:$P$70,4))","v":""},"B",null,null,null,null,"Umpire",null,{"$f":"UPPER(IF(OR(O30=\"a\",O30=\"as\"),N26,IF(OR(O30=\"b\",O30=\"bs\"),N34,)))","v":""}]
["25",{"$f":"IF($D31=\"\",\"\",VLOOKUP($D31,'B16 Si Main Draw Prep'!$A$7:$P$70,15))","v":""},{"$f":"IF($D31=\"\",\"\",VLOOKUP($D31,'B16 Si Main Draw Prep'!$A$7:$P$70,16))","v":""},null,"ΑΝΑΣΤΟΠΟΥΛΟΣ ΠΑΝΑΓΙΩΤΗΣ",{"$f":"IF($D31=\"\",\"\",VLOOKUP($D31,'B16 Si Main Draw Prep'!$A$7:$P$70,3))","v":""},null,{"$f":"IF($D31=\"\",\"\",VLOOKUP($D31,'B16 Si Main Draw Prep'!$A$7:$P$70,4))","v":""},null,{"$f":"UPPER(IF(OR(I32=\"a\",I32=\"as\"),E31,IF(OR(I32=\"b\",I32=\"bs\"),E32,)))","v":"ΑΝΑΣΤΟΠΟΥΛΟΣ ΠΑΝΑΓΙΩΤΗΣ"}]
["26",{"$f":"IF($D32=\"\",\"\",VLOOKUP($D32,'B16 Si Main Draw Prep'!$A$7:$P$70,15))","v":""},{"$f":"IF($D32=\"\",\"\",VLOOKUP($D32,'B16 Si Main Draw Prep'!$A$7:$P$70,16))","v":""},null,"BYE",{"$f":"IF($D32=\"\",\"\",VLOOKUP($D32,'B16 Si Main Draw Prep'!$A$7:$P$70,3))","v":""},null,{"$f":"IF($D32=\"\",\"\",VLOOKUP($D32,'B16 Si Main Draw Prep'!$A$7:$P$70,4))","v":""},"A",null,null,{"$f":"UPPER(IF(OR(K32=\"a\",K32=\"as\"),J31,IF(OR(K32=\"b\",K32=\"bs\"),J33,)))","v":""}]
["27",{"$f":"IF($D33=\"\",\"\",VLOOKUP($D33,'B16 Si Main Draw Prep'!$A$7:$P$70,15))","v":0},{"$f":"IF($D33=\"\",\"\",VLOOKUP($D33,'B16 Si Main Draw Prep'!$A$7:$P$70,16))","v":0},16,{"$f":"UPPER(IF($D33=\"\",\"\",VLOOKUP($D33,'B16 Si Main Draw Prep'!$A$7:$P$70,2)))","v":"ΓΙΑΝΝΟΠΟΥΛΟΣ"},{"$f":"IF($D33=\"\",\"\",VLOOKUP($D33,'B16 Si Main Draw Prep'!$A$7:$P$70,3))","v":"ΒΑΣΙΛΗΣ"},null,{"$f":"IF($D33=\"\",\"\",VLOOKUP($D33,'B16 Si Main Draw Prep'!$A$7:$P$70,4))","v":0},null,{"$f":"UPPER(IF(OR(I34=\"a\",I34=\"as\"),E33,IF(OR(I34=\"b\",I34=\"bs\"),E34,)))","v":"ΓΙΑΝΝΟΠΟΥΛΟΣ"}]
["28",{"$f":"IF($D34=\"\",\"\",VLOOKUP($D34,'B16 Si Main Draw Prep'!$A$7:$P$70,15))","v":""},{"$f":"IF($D34=\"\",\"\",VLOOKUP($D34,'B16 Si Main Draw Prep'!$A$7:$P$70,16))","v":""},null,"BYE",{"$f":"IF($D34=\"\",\"\",VLOOKUP($D34,'B16 Si Main Draw Prep'!$A$7:$P$70,3))","v":""},null,{"$f":"IF($D34=\"\",\"\",VLOOKUP($D34,'B16 Si Main Draw Prep'!$A$7:$P$70,4))","v":""},"A",null,null,"Umpire",null,{"$f":"UPPER(IF(OR(M34=\"a\",M34=\"as\"),L32,IF(OR(M34=\"b\",M34=\"bs\"),L36,)))","v":""}]
["29",{"$f":"IF($D35=\"\",\"\",VLOOKUP($D35,'B16 Si Main Draw Prep'!$A$7:$P$70,15))","v":""},{"$f":"IF($D35=\"\",\"\",VLOOKUP($D35,'B16 Si Main Draw Prep'!$A$7:$P$70,16))","v":""},null,"BYE",{"$f":"IF($D35=\"\",\"\",VLOOKUP($D35,'B16 Si Main Draw Prep'!$A$7:$P$70,3))","v":""},null,{"$f":"IF($D35=\"\",\"\",VLOOKUP($D35,'B16 Si Main Draw Prep'!$A$7:$P$70,4))","v":""},null,{"$f":"UPPER(IF(OR(I36=\"a\",I36=\"as\"),E35,IF(OR(I36=\"b\",I36=\"bs\"),E36,)))","v":"ΑΝΑΣΤΟΠΟΥΛΟΣ"}]
["30",{"$f":"IF($D36=\"\",\"\",VLOOKUP($D36,'B16 Si Main Draw Prep'!$A$7:$P$70,15))","v":0},{"$f":"IF($D36=\"\",\"\",VLOOKUP($D36,'B16 Si Main Draw Prep'!$A$7:$P$70,16))","v":0},6,{"$f":"UPPER(IF($D36=\"\",\"\",VLOOKUP($D36,'B16 Si Main Draw Prep'!$A$7:$P$70,2)))","v":"ΑΝΑΣΤΟΠΟΥΛΟΣ"},{"$f":"IF($D36=\"\",\"\",VLOOKUP($D36,'B16 Si Main Draw Prep'!$A$7:$P$70,3))","v":"ΝΙΚΟΛΑΟΣ"},null,{"$f":"IF($D36=\"\",\"\",VLOOKUP($D36,'B16 Si Main Draw Prep'!$A$7:$P$70,4))","v":0},"B",null,null,{"$f":"UPPER(IF(OR(K36=\"a\",K36=\"as\"),J35,IF(OR(K36=\"b\",K36=\"bs\"),J37,)))","v":""},null,"Final",null,"Winner"]
["31",{"$f":"IF($D37=\"\",\"\",VLOOKUP($D37,'B16 Si Main Draw Prep'!$A$7:$P$70,15))","v":""},{"$f":"IF($D37=\"\",\"\",VLOOKUP($D37,'B16 Si Main Draw Prep'!$A$7:$P$70,16))","v":""},null,"BYE",{"$f":"IF($D37=\"\",\"\",VLOOKUP($D37,'B16 Si Main Draw Prep'!$A$7:$P$70,3))","v":""},null,{"$f":"IF($D37=\"\",\"\",VLOOKUP($D37,'B16 Si Main Draw Prep'!$A$7:$P$70,4))","v":""},null,{"$f":"UPPER(IF(OR(I38=\"a\",I38=\"as\"),E37,IF(OR(I38=\"b\",I38=\"bs\"),E38,)))","v":"ΛΕΡΙΚΟΣ ΑΡΗΣ"},null,null,null,{"$f":"UPPER(IF(OR(O23=\"a\",O23=\"as\"),P14,IF(OR(O23=\"b\",O23=\"bs\"),P30,)))","v":""}]
["32",{"$f":"IF($D38=\"\",\"\",VLOOKUP($D38,'B16 Si Main Draw Prep'!$A$7:$P$70,15))","v":""},{"$f":"IF($D38=\"\",\"\",VLOOKUP($D38,'B16 Si Main Draw Prep'!$A$7:$P$70,16))","v":""},null,"ΛΕΡΙΚΟΣ ΑΡΗΣ",{"$f":"IF($D38=\"\",\"\",VLOOKUP($D38,'B16 Si Main Draw Prep'!$A$7:$P$70,3))","v":""},null,{"$f":"IF($D38=\"\",\"\",VLOOKUP($D38,'B16 Si Main Draw Prep'!$A$7:$P$70,4))","v":""},"B",null,null,null,null,"Umpire",null,{"$f":"UPPER(IF(OR(O38=\"a\",O38=\"as\"),N37,IF(OR(O38=\"b\",O38=\"bs\"),N39,)))","v":""}]
["33",{"$f":"IF($D39=\"\",\"\",VLOOKUP($D39,'B16 Si Main Draw Prep'!$A$7:$P$70,15))","v":""},{"$f":"IF($D39=\"\",\"\",VLOOKUP($D39,'B16 Si Main Draw Prep'!$A$7:$P$70,16))","v":""},null,"ΛΑΜΠΡΟΠΟΥΛΟΣ ΚΛΕΜ",{"$f":"IF($D39=\"\",\"\",VLOOKUP($D39,'B16 Si Main Draw Prep'!$A$7:$P$70,3))","v":""},null,{"$f":"IF($D39=\"\",\"\",VLOOKUP($D39,'B16 Si Main Draw Prep'!$A$7:$P$70,4))","v":""},null,{"$f":"UPPER(IF(OR(I40=\"a\",I40=\"as\"),E39,IF(OR(I40=\"b\",I40=\"bs\"),E40,)))","v":"ΛΑΜΠΡΟΠΟΥΛΟΣ ΚΛΕΜ"},null,null,null,{"$f":"UPPER(IF(OR(O55=\"a\",O55=\"as\"),P46,IF(OR(O55=\"b\",O55=\"bs\"),P62,)))","v":""}]
["34",{"$f":"IF($D40=\"\",\"\",VLOOKUP($D40,'B16 Si Main Draw Prep'!$A$7:$P$70,15))","v":""},{"$f":"IF($D40=\"\",\"\",VLOOKUP($D40,'B16 Si Main Draw Prep'!$A$7:$P$70,16))","v":""},null,"BYE",{"$f":"IF($D40=\"\",\"\",VLOOKUP($D40,'B16 Si Main Draw Prep'!$A$7:$P$70,3))","v":""},null,{"$f":"IF($D40=\"\",\"\",VLOOKUP($D40,'B16 Si Main Draw Prep'!$A$7:$P$70,4))","v":""},"A",null,null,{"$f":"UPPER(IF(OR(K40=\"a\",K40=\"as\"),J39,IF(OR(K40=\"b\",K40=\"bs\"),J41,)))","v":""}]
["35",{"$f":"IF($D41=\"\",\"\",VLOOKUP($D41,'B16 Si Main Draw Prep'!$A$7:$P$70,15))","v":""},{"$f":"IF($D41=\"\",\"\",VLOOKUP($D41,'B16 Si Main Draw Prep'!$A$7:$P$70,16))","v":""},null,"BYE",{"$f":"IF($D41=\"\",\"\",VLOOKUP($D41,'B16 Si Main Draw Prep'!$A$7:$P$70,3))","v":""},null,{"$f":"IF($D41=\"\",\"\",VLOOKUP($D41,'B16 Si Main Draw Prep'!$A$7:$P$70,4))","v":""},null,{"$f":"UPPER(IF(OR(I42=\"a\",I42=\"as\"),E41,IF(OR(I42=\"b\",I42=\"bs\"),E42,)))","v":"ΣΓΟΥΠΑΚΟΣ"}]
["36",{"$f":"IF($D42=\"\",\"\",VLOOKUP($D42,'B16 Si Main Draw Prep'!$A$7:$P$70,15))","v":0},{"$f":"IF($D42=\"\",\"\",VLOOKUP($D42,'B16 Si Main Draw Prep'!$A$7:$P$70,16))","v":0},21,{"$f":"UPPER(IF($D42=\"\",\"\",VLOOKUP($D42,'B16 Si Main Draw Prep'!$A$7:$P$70,2)))","v":"ΣΓΟΥΠΑΚΟΣ"},{"$f":"IF($D42=\"\",\"\",VLOOKUP($D42,'B16 Si Main Draw Prep'!$A$7:$P$70,3))","v":"ΠΑΝΑΓΙΩΤΗΣ"},null,{"$f":"IF($D42=\"\",\"\",VLOOKUP($D42,'B16 Si Main Draw Prep'!$A$7:$P$70,4))","v":0},"B",null,null,"Umpire",null,{"$f":"UPPER(IF(OR(M42=\"a\",M42=\"as\"),L40,IF(OR(M42=\"b\",M42=\"bs\"),L44,)))","v":""}]
["37",{"$f":"IF($D43=\"\",\"\",VLOOKUP($D43,'B16 Si Main Draw Prep'!$A$7:$P$70,15))","v":""},{"$f":"IF($D43=\"\",\"\",VLOOKUP($D43,'B16 Si Main Draw Prep'!$A$7:$P$70,16))","v":""},null,"BYE",{"$f":"IF($D43=\"\",\"\",VLOOKUP($D43,'B16 Si Main Draw Prep'!$A$7:$P$70,3))","v":""},null,{"$f":"IF($D43=\"\",\"\",VLOOKUP($D43,'B16 Si Main Draw Prep'!$A$7:$P$70,4))","v":""},null,{"$f":"UPPER(IF(OR(I44=\"a\",I44=\"as\"),E43,IF(OR(I44=\"b\",I44=\"bs\"),E44,)))","v":"ΚΑΝΕΛΛΟΠΟΥΛΟΣ"}]
["38",{"$f":"IF($D44=\"\",\"\",VLOOKUP($D44,'B16 Si Main Draw Prep'!$A$7:$P$70,15))","v":0},{"$f":"IF($D44=\"\",\"\",VLOOKUP($D44,'B16 Si Main Draw Prep'!$A$7:$P$70,16))","v":0},11,{"$f":"UPPER(IF($D44=\"\",\"\",VLOOKUP($D44,'B16 Si Main Draw Prep'!$A$7:$P$70,2)))","v":"ΚΑΝΕΛΛΟΠΟΥΛΟΣ"},{"$f":"IF($D44=\"\",\"\",VLOOKUP($D44,'B16 Si Main Draw Prep'!$A$7:$P$70,3))","v":"ΠΕΤΡΟΣ"},null,{"$f":"IF($D44=\"\",\"\",VLOOKUP($D44,'B16 Si Main Draw Prep'!$A$7:$P$70,4))","v":0},"B",null,null,{"$f":"UPPER(IF(OR(K44=\"a\",K44=\"as\"),J43,IF(OR(K44=\"b\",K44=\"bs\"),J45,)))","v":""}]
["39",{"$f":"IF($D45=\"\",\"\",VLOOKUP($D45,'B16 Si Main Draw Prep'!$A$7:$P$70,15))","v":""},{"$f":"IF($D45=\"\",\"\",VLOOKUP($D45,'B16 Si Main Draw Prep'!$A$7:$P$70,16))","v":""},null,"BYE",{"$f":"IF($D45=\"\",\"\",VLOOKUP($D45,'B16 Si Main Draw Prep'!$A$7:$P$70,3))","v":""},null,{"$f":"IF($D45=\"\",\"\",VLOOKUP($D45,'B16 Si Main Draw Prep'!$A$7:$P$70,4))","v":""},null,{"$f":"UPPER(IF(OR(I46=\"a\",I46=\"as\"),E45,IF(OR(I46=\"b\",I46=\"bs\"),E46,)))","v":"ΔΙΑΜΑΝΤΟΠΟΥΛΟΣ ΠΑΝΑΓΙΩΤΗΣ"}]
["40",{"$f":"IF($D46=\"\",\"\",VLOOKUP($D46,'B16 Si Main Draw Prep'!$A$7:$P$70,15))","v":""},{"$f":"IF($D46=\"\",\"\",VLOOKUP($D46,'B16 Si Main Draw Prep'!$A$7:$P$70,16))","v":""},null,"ΔΙΑΜΑΝΤΟΠΟΥΛΟΣ ΠΑΝΑΓΙΩΤΗΣ",{"$f":"IF($D46=\"\",\"\",VLOOKUP($D46,'B16 Si Main Draw Prep'!$A$7:$P$70,3))","v":""},null,{"$f":"IF($D46=\"\",\"\",VLOOKUP($D46,'B16 Si Main Draw Prep'!$A$7:$P$70,4))","v":""},"B",null,null,null,null,"Umpire",null,{"$f":"UPPER(IF(OR(O46=\"a\",O46=\"as\"),N42,IF(OR(O46=\"b\",O46=\"bs\"),N50,)))","v":""}]
["41",{"$f":"IF($D47=\"\",\"\",VLOOKUP($D47,'B16 Si Main Draw Prep'!$A$7:$P$70,15))","v":""},{"$f":"IF($D47=\"\",\"\",VLOOKUP($D47,'B16 Si Main Draw Prep'!$A$7:$P$70,16))","v":""},null,"ΠΑΠΑΝΙΚΟΛΑΟΥ ΕΚΤΟΡΑΣ",{"$f":"IF($D47=\"\",\"\",VLOOKUP($D47,'B16 Si Main Draw Prep'!$A$7:$P$70,3))","v":""},null,{"$f":"IF($D47=\"\",\"\",VLOOKUP($D47,'B16 Si Main Draw Prep'!$A$7:$P$70,4))","v":""},null,{"$f":"UPPER(IF(OR(I48=\"a\",I48=\"as\"),E47,IF(OR(I48=\"b\",I48=\"bs\"),E48,)))","v":"ΠΑΠΑΝΙΚΟΛΑΟΥ ΕΚΤΟΡΑΣ"}]
["42",{"$f":"IF($D48=\"\",\"\",VLOOKUP($D48,'B16 Si Main Draw Prep'!$A$7:$P$70,15))","v":""},{"$f":"IF($D48=\"\",\"\",VLOOKUP($D48,'B16 Si Main Draw Prep'!$A$7:$P$70,16))","v":""},null,"BYE",{"$f":"IF($D48=\"\",\"\",VLOOKUP($D48,'B16 Si Main Draw Prep'!$A$7:$P$70,3))","v":""},null,{"$f":"IF($D48=\"\",\"\",VLOOKUP($D48,'B16 Si Main Draw Prep'!$A$7:$P$70,4))","v":""},"A",null,null,{"$f":"UPPER(IF(OR(K48=\"a\",K48=\"as\"),J47,IF(OR(K48=\"b\",K48=\"bs\"),J49,)))","v":""}]
["43",{"$f":"IF($D49=\"\",\"\",VLOOKUP($D49,'B16 Si Main Draw Prep'!$A$7:$P$70,15))","v":0},{"$f":"IF($D49=\"\",\"\",VLOOKUP($D49,'B16 Si Main Draw Prep'!$A$7:$P$70,16))","v":0},27,{"$f":"UPPER(IF($D49=\"\",\"\",VLOOKUP($D49,'B16 Si Main Draw Prep'!$A$7:$P$70,2)))","v":"ΓΙΑΝΝΑΚΟΠΟΥΛΟΣ"},{"$f":"IF($D49=\"\",\"\",VLOOKUP($D49,'B16 Si Main Draw Prep'!$A$7:$P$70,3))","v":"ΔΗΜΗΤΡΗΣ"},null,{"$f":"IF($D49=\"\",\"\",VLOOKUP($D49,'B16 Si Main Draw Prep'!$A$7:$P$70,4))","v":0},null,{"$f":"UPPER(IF(OR(I50=\"a\",I50=\"as\"),E49,IF(OR(I50=\"b\",I50=\"bs\"),E50,)))","v":"ΓΙΑΝΝΑΚΟΠΟΥΛΟΣ"}]
["44",{"$f":"IF($D50=\"\",\"\",VLOOKUP($D50,'B16 Si Main Draw Prep'!$A$7:$P$70,15))","v":""},{"$f":"IF($D50=\"\",\"\",VLOOKUP($D50,'B16 Si Main Draw Prep'!$A$7:$P$70,16))","v":""},null,"BYE",{"$f":"IF($D50=\"\",\"\",VLOOKUP($D50,'B16 Si Main Draw Prep'!$A$7:$P$70,3))","v":""},null,{"$f":"IF($D50=\"\",\"\",VLOOKUP($D50,'B16 Si Main Draw Prep'!$A$7:$P$70,4))","v":""},"A",null,null,"Umpire",null,{"$f":"UPPER(IF(OR(M50=\"a\",M50=\"as\"),L48,IF(OR(M50=\"b\",M50=\"bs\"),L52,)))","v":""}]
["45",{"$f":"IF($D51=\"\",\"\",VLOOKUP($D51,'B16 Si Main Draw Prep'!$A$7:$P$70,15))","v":""},{"$f":"IF($D51=\"\",\"\",VLOOKUP($D51,'B16 Si Main Draw Prep'!$A$7:$P$70,16))","v":""},null,"BYE",{"$f":"IF($D51=\"\",\"\",VLOOKUP($D51,'B16 Si Main Draw Prep'!$A$7:$P$70,3))","v":""},null,{"$f":"IF($D51=\"\",\"\",VLOOKUP($D51,'B16 Si Main Draw Prep'!$A$7:$P$70,4))","v":""},null,{"$f":"UPPER(IF(OR(I52=\"a\",I52=\"as\"),E51,IF(OR(I52=\"b\",I52=\"bs\"),E52,)))","v":"ΖΙΤΣΑΣ"}]
["46",{"$f":"IF($D52=\"\",\"\",VLOOKUP($D52,'B16 Si Main Draw Prep'!$A$7:$P$70,15))","v":0},{"$f":"IF($D52=\"\",\"\",VLOOKUP($D52,'B16 Si Main Draw Prep'!$A$7:$P$70,16))","v":0},32,{"$f":"UPPER(IF($D52=\"\",\"\",VLOOKUP($D52,'B16 Si Main Draw Prep'!$A$7:$P$70,2)))","v":"ΖΙΤΣΑΣ"},{"$f":"IF($D52=\"\",\"\",VLOOKUP($D52,'B16 Si Main Draw Prep'!$A$7:$P$70,3))","v":"ΓΙΩΡΓΟΣ"},null,{"$f":"IF($D52=\"\",\"\",VLOOKUP($D52,'B16 Si Main Draw Prep'!$A$7:$P$70,4))","v":0},"B",null,null,{"$f":"UPPER(IF(OR(K52=\"a\",K52=\"as\"),J51,IF(OR(K52=\"b\",K52=\"bs\"),J53,)))","v":""}]
["47",{"$f":"IF($D53=\"\",\"\",VLOOKUP($D53,'B16 Si Main Draw Prep'!$A$7:$P$70,15))","v":""},{"$f":"IF($D53=\"\",\"\",VLOOKUP($D53,'B16 Si Main Draw Prep'!$A$7:$P$70,16))","v":""},null,"BYE",{"$f":"IF($D53=\"\",\"\",VLOOKUP($D53,'B16 Si Main Draw Prep'!$A$7:$P$70,3))","v":""},null,{"$f":"IF($D53=\"\",\"\",VLOOKUP($D53,'B16 Si Main Draw Prep'!$A$7:$P$70,4))","v":""},null,{"$f":"UPPER(IF(OR(I54=\"a\",I54=\"as\"),E53,IF(OR(I54=\"b\",I54=\"bs\"),E54,)))","v":"ΚΑΡΑΝΑΓΝΩΣΤΗΣ ΝΤΙΝΟΣ"}]
["48",{"$f":"IF($D54=\"\",\"\",VLOOKUP($D54,'B16 Si Main Draw Prep'!$A$7:$P$70,15))","v":""},{"$f":"IF($D54=\"\",\"\",VLOOKUP($D54,'B16 Si Main Draw Prep'!$A$7:$P$70,16))","v":""},null,"ΚΑΡΑΝΑΓΝΩΣΤΗΣ ΝΤΙΝΟΣ",{"$f":"IF($D54=\"\",\"\",VLOOKUP($D54,'B16 Si Main Draw Prep'!$A$7:$P$70,3))","v":""},null,{"$f":"IF($D54=\"\",\"\",VLOOKUP($D54,'B16 Si Main Draw Prep'!$A$7:$P$70,4))","v":""},"B",null,null,null,null,"Finalist 2:",null,{"$f":"UPPER(IF(OR(O55=\"a\",O55=\"as\"),P46,IF(OR(O55=\"b\",O55=\"bs\"),P62,)))","v":""}]
["49",{"$f":"IF($D55=\"\",\"\",VLOOKUP($D55,'B16 Si Main Draw Prep'!$A$7:$P$70,15))","v":""},{"$f":"IF($D55=\"\",\"\",VLOOKUP($D55,'B16 Si Main Draw Prep'!$A$7:$P$70,16))","v":""},null,"ΣΠΥΡΑΚΗΣ ΓΙΩΡΓΟΣ",{"$f":"IF($D55=\"\",\"\",VLOOKUP($D55,'B16 Si Main Draw Prep'!$A$7:$P$70,3))","v":""},null,{"$f":"IF($D55=\"\",\"\",VLOOKUP($D55,'B16 Si Main Draw Prep'!$A$7:$P$70,4))","v":""},null,{"$f":"UPPER(IF(OR(I56=\"a\",I56=\"as\"),E55,IF(OR(I56=\"b\",I56=\"bs\"),E56,)))","v":"ΣΠΥΡΑΚΗΣ ΓΙΩΡΓΟΣ"},null,null,null,"Umpire"]
["50",{"$f":"IF($D56=\"\",\"\",VLOOKUP($D56,'B16 Si Main Draw Prep'!$A$7:$P$70,15))","v":""},{"$f":"IF($D56=\"\",\"\",VLOOKUP($D56,'B16 Si Main Draw Prep'!$A$7:$P$70,16))","v":""},null,"BYE",{"$f":"IF($D56=\"\",\"\",VLOOKUP($D56,'B16 Si Main Draw Prep'!$A$7:$P$70,3))","v":""},null,{"$f":"IF($D56=\"\",\"\",VLOOKUP($D56,'B16 Si Main Draw Prep'!$A$7:$P$70,4))","v":""},"A",null,null,{"$f":"UPPER(IF(OR(K56=\"a\",K56=\"as\"),J55,IF(OR(K56=\"b\",K56=\"bs\"),J57,)))","v":""}]
["51",{"$f":"IF($D57=\"\",\"\",VLOOKUP($D57,'B16 Si Main Draw Prep'!$A$7:$P$70,15))","v":0},{"$f":"IF($D57=\"\",\"\",VLOOKUP($D57,'B16 Si Main Draw Prep'!$A$7:$P$70,16))","v":0},7,{"$f":"UPPER(IF($D57=\"\",\"\",VLOOKUP($D57,'B16 Si Main Draw Prep'!$A$7:$P$70,2)))","v":"ΚΑΝΤΖΑΒΕΛΟΣ"},{"$f":"IF($D57=\"\",\"\",VLOOKUP($D57,'B16 Si Main Draw Prep'!$A$7:$P$70,3))","v":"ΜΙΧΑΛΗΣ"},null,{"$f":"IF($D57=\"\",\"\",VLOOKUP($D57,'B16 Si Main Draw Prep'!$A$7:$P$70,4))","v":0},null,{"$f":"UPPER(IF(OR(I58=\"a\",I58=\"as\"),E57,IF(OR(I58=\"b\",I58=\"bs\"),E58,)))","v":"ΚΑΝΤΖΑΒΕΛΟΣ"}]
["52",{"$f":"IF($D58=\"\",\"\",VLOOKUP($D58,'B16 Si Main Draw Prep'!$A$7:$P$70,15))","v":""},{"$f":"IF($D58=\"\",\"\",VLOOKUP($D58,'B16 Si Main Draw Prep'!$A$7:$P$70,16))","v":""},null,"BYE",{"$f":"IF($D58=\"\",\"\",VLOOKUP($D58,'B16 Si Main Draw Prep'!$A$7:$P$70,3))","v":""},null,{"$f":"IF($D58=\"\",\"\",VLOOKUP($D58,'B16 Si Main Draw Prep'!$A$7:$P$70,4))","v":""},"A",null,null,"Umpire",null,{"$f":"UPPER(IF(OR(M58=\"a\",M58=\"as\"),L56,IF(OR(M58=\"b\",M58=\"bs\"),L60,)))","v":""}]
["53",{"$f":"IF($D59=\"\",\"\",VLOOKUP($D59,'B16 Si Main Draw Prep'!$A$7:$P$70,15))","v":0},{"$f":"IF($D59=\"\",\"\",VLOOKUP($D59,'B16 Si Main Draw Prep'!$A$7:$P$70,16))","v":0},4,{"$f":"UPPER(IF($D59=\"\",\"\",VLOOKUP($D59,'B16 Si Main Draw Prep'!$A$7:$P$70,2)))","v":"ΠΑΝΑΓΙΩΤΟΠΟΥΛΟΣ"},{"$f":"IF($D59=\"\",\"\",VLOOKUP($D59,'B16 Si Main Draw Prep'!$A$7:$P$70,3))","v":"ΘΕΟΔΩΡΟΣ"},null,{"$f":"IF($D59=\"\",\"\",VLOOKUP($D59,'B16 Si Main Draw Prep'!$A$7:$P$70,4))","v":0},null,{"$f":"UPPER(IF(OR(I60=\"a\",I60=\"as\"),E59,IF(OR(I60=\"b\",I60=\"bs\"),E60,)))","v":""}]
["54",{"$f":"IF($D60=\"\",\"\",VLOOKUP($D60,'B16 Si Main Draw Prep'!$A$7:$P$70,15))","v":0},{"$f":"IF($D60=\"\",\"\",VLOOKUP($D60,'B16 Si Main Draw Prep'!$A$7:$P$70,16))","v":0},22,{"$f":"UPPER(IF($D60=\"\",\"\",VLOOKUP($D60,'B16 Si Main Draw Prep'!$A$7:$P$70,2)))","v":"ΓΙΑΝΝΑΚΟΠΟΥΛΟΣ"},{"$f":"IF($D60=\"\",\"\",VLOOKUP($D60,'B16 Si Main Draw Prep'!$A$7:$P$70,3))","v":"ΓΙΑΝΝΗΣ"},null,{"$f":"IF($D60=\"\",\"\",VLOOKUP($D60,'B16 Si Main Draw Prep'!$A$7:$P$70,4))","v":0},null,null,null,{"$f":"UPPER(IF(OR(K60=\"a\",K60=\"as\"),J59,IF(OR(K60=\"b\",K60=\"bs\"),J61,)))","v":""}]
["55",{"$f":"IF($D61=\"\",\"\",VLOOKUP($D61,'B16 Si Main Draw Prep'!$A$7:$P$70,15))","v":""},{"$f":"IF($D61=\"\",\"\",VLOOKUP($D61,'B16 Si Main Draw Prep'!$A$7:$P$70,16))","v":""},null,"BYE",{"$f":"IF($D61=\"\",\"\",VLOOKUP($D61,'B16 Si Main Draw Prep'!$A$7:$P$70,3))","v":""},null,{"$f":"IF($D61=\"\",\"\",VLOOKUP($D61,'B16 Si Main Draw Prep'!$A$7:$P$70,4))","v":""},null,{"$f":"UPPER(IF(OR(I62=\"a\",I62=\"as\"),E61,IF(OR(I62=\"b\",I62=\"bs\"),E62,)))","v":"ΓΑΛΑΝΗΣ ΝΙΚΟΣ"}]
["56",{"$f":"IF($D62=\"\",\"\",VLOOKUP($D62,'B16 Si Main Draw Prep'!$A$7:$P$70,15))","v":""},{"$f":"IF($D62=\"\",\"\",VLOOKUP($D62,'B16 Si Main Draw Prep'!$A$7:$P$70,16))","v":""},null,"ΓΑΛΑΝΗΣ ΝΙΚΟΣ",{"$f":"IF($D62=\"\",\"\",VLOOKUP($D62,'B16 Si Main Draw Prep'!$A$7:$P$70,3))","v":""},null,{"$f":"IF($D62=\"\",\"\",VLOOKUP($D62,'B16 Si Main Draw Prep'!$A$7:$P$70,4))","v":""},"B",null,null,null,null,"Umpire",null,{"$f":"UPPER(IF(OR(O62=\"a\",O62=\"as\"),N58,IF(OR(O62=\"b\",O62=\"bs\"),N66,)))","v":""}]
["57",{"$f":"IF($D63=\"\",\"\",VLOOKUP($D63,'B16 Si Main Draw Prep'!$A$7:$P$70,15))","v":""},{"$f":"IF($D63=\"\",\"\",VLOOKUP($D63,'B16 Si Main Draw Prep'!$A$7:$P$70,16))","v":""},null,"ΘΗΒΑΙΟΣ ΓΙΑΝΝΗΣ",{"$f":"IF($D63=\"\",\"\",VLOOKUP($D63,'B16 Si Main Draw Prep'!$A$7:$P$70,3))","v":""},null,{"$f":"IF($D63=\"\",\"\",VLOOKUP($D63,'B16 Si Main Draw Prep'!$A$7:$P$70,4))","v":""},null,{"$f":"UPPER(IF(OR(I64=\"a\",I64=\"as\"),E63,IF(OR(I64=\"b\",I64=\"bs\"),E64,)))","v":"ΘΗΒΑΙΟΣ ΓΙΑΝΝΗΣ"}]
["58",{"$f":"IF($D64=\"\",\"\",VLOOKUP($D64,'B16 Si Main Draw Prep'!$A$7:$P$70,15))","v":""},{"$f":"IF($D64=\"\",\"\",VLOOKUP($D64,'B16 Si Main Draw Prep'!$A$7:$P$70,16))","v":""},null,"BYE",{"$f":"IF($D64=\"\",\"\",VLOOKUP($D64,'B16 Si Main Draw Prep'!$A$7:$P$70,3))","v":""},null,{"$f":"IF($D64=\"\",\"\",VLOOKUP($D64,'B16 Si Main Draw Prep'!$A$7:$P$70,4))","v":""},"A",null,null,{"$f":"UPPER(IF(OR(K64=\"a\",K64=\"as\"),J63,IF(OR(K64=\"b\",K64=\"bs\"),J65,)))","v":""}]
["59",{"$f":"IF($D65=\"\",\"\",VLOOKUP($D65,'B16 Si Main Draw Prep'!$A$7:$P$70,15))","v":0},{"$f":"IF($D65=\"\",\"\",VLOOKUP($D65,'B16 Si Main Draw Prep'!$A$7:$P$70,16))","v":0},18,{"$f":"UPPER(IF($D65=\"\",\"\",VLOOKUP($D65,'B16 Si Main Draw Prep'!$A$7:$P$70,2)))","v":"ΠΑΠΑΒΑΣΙΛΕΙΟΥ"},{"$f":"IF($D65=\"\",\"\",VLOOKUP($D65,'B16 Si Main Draw Prep'!$A$7:$P$70,3))","v":"ΣΤΑΥΡΟΣ"},null,{"$f":"IF($D65=\"\",\"\",VLOOKUP($D65,'B16 Si Main Draw Prep'!$A$7:$P$70,4))","v":0},null,{"$f":"UPPER(IF(OR(I66=\"a\",I66=\"as\"),E65,IF(OR(I66=\"b\",I66=\"bs\"),E66,)))","v":"ΠΑΠΑΒΑΣΙΛΕΙΟΥ"}]
["60",{"$f":"IF($D66=\"\",\"\",VLOOKUP($D66,'B16 Si Main Draw Prep'!$A$7:$P$70,15))","v":""},{"$f":"IF($D66=\"\",\"\",VLOOKUP($D66,'B16 Si Main Draw Prep'!$A$7:$P$70,16))","v":""},null,"BYE",{"$f":"IF($D66=\"\",\"\",VLOOKUP($D66,'B16 Si Main Draw Prep'!$A$7:$P$70,3))","v":""},null,{"$f":"IF($D66=\"\",\"\",VLOOKUP($D66,'B16 Si Main Draw Prep'!$A$7:$P$70,4))","v":""},"A",null,null,"Umpire",null,{"$f":"UPPER(IF(OR(M66=\"a\",M66=\"as\"),L64,IF(OR(M66=\"b\",M66=\"bs\"),L68,)))","v":""}]
["61",{"$f":"IF($D67=\"\",\"\",VLOOKUP($D67,'B16 Si Main Draw Prep'!$A$7:$P$70,15))","v":""},{"$f":"IF($D67=\"\",\"\",VLOOKUP($D67,'B16 Si Main Draw Prep'!$A$7:$P$70,16))","v":""},null,"BYE",{"$f":"IF($D67=\"\",\"\",VLOOKUP($D67,'B16 Si Main Draw Prep'!$A$7:$P$70,3))","v":""},null,{"$f":"IF($D67=\"\",\"\",VLOOKUP($D67,'B16 Si Main Draw Prep'!$A$7:$P$70,4))","v":""},null,{"$f":"UPPER(IF(OR(I68=\"a\",I68=\"as\"),E67,IF(OR(I68=\"b\",I68=\"bs\"),E68,)))","v":"ΝΙΚΟΛΟΠΟΥΛΟΣ"}]
["62",{"$f":"IF($D68=\"\",\"\",VLOOKUP($D68,'B16 Si Main Draw Prep'!$A$7:$P$70,15))","v":0},{"$f":"IF($D68=\"\",\"\",VLOOKUP($D68,'B16 Si Main Draw Prep'!$A$7:$P$70,16))","v":0},15,{"$f":"UPPER(IF($D68=\"\",\"\",VLOOKUP($D68,'B16 Si Main Draw Prep'!$A$7:$P$70,2)))","v":"ΝΙΚΟΛΟΠΟΥΛΟΣ"},{"$f":"IF($D68=\"\",\"\",VLOOKUP($D68,'B16 Si Main Draw Prep'!$A$7:$P$70,3))","v":"ΧΡΗΣΤΟΣ"},null,{"$f":"IF($D68=\"\",\"\",VLOOKUP($D68,'B16 Si Main Draw Prep'!$A$7:$P$70,4))","v":0},"B",null,null,{"$f":"UPPER(IF(OR(K68=\"a\",K68=\"as\"),J67,IF(OR(K68=\"b\",K68=\"bs\"),J69,)))","v":""}]
["63",{"$f":"IF($D69=\"\",\"\",VLOOKUP($D69,'B16 Si Main Draw Prep'!$A$7:$P$70,15))","v":""},{"$f":"IF($D69=\"\",\"\",VLOOKUP($D69,'B16 Si Main Draw Prep'!$A$7:$P$70,16))","v":""},null,"BYE",{"$f":"IF($D69=\"\",\"\",VLOOKUP($D69,'B16 Si Main Draw Prep'!$A$7:$P$70,3))","v":""},null,{"$f":"IF($D69=\"\",\"\",VLOOKUP($D69,'B16 Si Main Draw Prep'!$A$7:$P$70,4))","v":""},null,{"$f":"UPPER(IF(OR(I70=\"a\",I70=\"as\"),E69,IF(OR(I70=\"b\",I70=\"bs\"),E70,)))","v":"ΤΖΙΝΗΣ ΝΙΚΟΛΑΟΣ"}]
["64",{"$f":"IF($D70=\"\",\"\",VLOOKUP($D70,'B16 Si Main Draw Prep'!$A$7:$P$70,15))","v":""},{"$f":"IF($D70=\"\",\"\",VLOOKUP($D70,'B16 Si Main Draw Prep'!$A$7:$P$70,16))","v":""},null,"ΤΖΙΝΗΣ ΝΙΚΟΛΑΟΣ",{"$f":"IF($D70=\"\",\"\",VLOOKUP($D70,'B16 Si Main Draw Prep'!$A$7:$P$70,3))","v":""},null,{"$f":"IF($D70=\"\",\"\",VLOOKUP($D70,'B16 Si Main Draw Prep'!$A$7:$P$70,4))","v":""},"B"]
[]
["Acc. Ranking",null,null,"#","Seeded players","#","Seeded players",null,"#","Lucky Losers",null,"Replacing",null,"Draw date/time:"]
["Rkg Date",null,null,1,{"$f":"IF(D73>$Q$80,,UPPER(VLOOKUP(D73,'B16 Si Main Draw Prep'!$A$7:$R$134,2)))","v":0},9,{"$f":"IF(F73>$Q$80,,UPPER(VLOOKUP(F73,'B16 Si Main Draw Prep'!$A$7:$R$134,2)))","v":0},null,"1",null,null,null,null,"Last Accepted player"]
["Last DA",null,null,2,{"$f":"IF(D74>$Q$80,,UPPER(VLOOKUP(D74,'B16 Si Main Draw Prep'!$A$7:$R$134,2)))","v":0},10,{"$f":"IF(F74>$Q$80,,UPPER(VLOOKUP(F74,'B16 Si Main Draw Prep'!$A$7:$R$134,2)))","v":0},null,"2"]
[null,null,null,3,{"$f":"IF(D75>$Q$80,,UPPER(VLOOKUP(D75,'B16 Si Main Draw Prep'!$A$7:$R$134,2)))","v":0},11,{"$f":"IF(F75>$Q$80,,UPPER(VLOOKUP(F75,'B16 Si Main Draw Prep'!$A$7:$R$134,2)))","v":0},null,"3",null,null,null,null,"Player representatives"]
[null,null,null,4,{"$f":"IF(D76>$Q$80,,UPPER(VLOOKUP(D76,'B16 Si Main Draw Prep'!$A$7:$R$134,2)))","v":0},12,{"$f":"IF(F76>$Q$80,,UPPER(VLOOKUP(F76,'B16 Si Main Draw Prep'!$A$7:$R$134,2)))","v":0},null,"4"]
[null,null,null,5,{"$f":"IF(D77>$Q$80,,UPPER(VLOOKUP(D77,'B16 Si Main Draw Prep'!$A$7:$R$134,2)))","v":0},13,{"$f":"IF(F77>$Q$80,,UPPER(VLOOKUP(F77,'B16 Si Main Draw Prep'!$A$7:$R$134,2)))","v":0},null,"5"]
[null,null,null,6,{"$f":"IF(D78>$Q$80,,UPPER(VLOOKUP(D78,'B16 Si Main Draw Prep'!$A$7:$R$134,2)))","v":0},14,{"$f":"IF(F78>$Q$80,,UPPER(VLOOKUP(F78,'B16 Si Main Draw Prep'!$A$7:$R$134,2)))","v":0},null,"6",null,null,null,null,"Referee's signature"]
[null,null,null,7,{"$f":"IF(D79>$Q$80,,UPPER(VLOOKUP(D79,'B16 Si Main Draw Prep'!$A$7:$R$134,2)))","v":0},15,{"$f":"IF(F79>$Q$80,,UPPER(VLOOKUP(F79,'B16 Si Main Draw Prep'!$A$7:$R$134,2)))","v":0},null,"7"]
[null,null,null,8,{"$f":"IF(D80>$Q$80,,UPPER(VLOOKUP(D80,'B16 Si Main Draw Prep'!$A$7:$R$134,2)))","v":0},16,{"$f":"IF(F80>$Q$80,,UPPER(VLOOKUP(F80,'B16 Si Main Draw Prep'!$A$7:$R$134,2)))","v":0},null,"8",null,null,null,null,{"$f":"Q4","v":0},null,null,{"$f":"MIN(16,'B16 Si Main Draw Prep'!R5)","v":0}]