{"text_format":"1","workbook":"xlsx","n_sheets":3,"sheets":["Week SetUp","SetUp Officials","B16 Do Main 16"],"not_rendered":{"charts":0,"images":2,"macros":1,"external_links":1,"defined_names":16,"comments":1,"pivot_tables":0},"unopened":[],"bounds":{"document_bytes":16777216,"sheet_cells":100000,"rows_first":2000,"rows_last":500,"rows_between":2000,"halvings":0,"cell_chars":16384,"cell_head_chars":4096},"cells_cut":0,"cells_raw":0,"read":"whole","date_system":"1900"}

{"sheet":"Week SetUp","index":0,"n_rows":17,"n_cols":5,"rows_kept":17,"cut":false,"hidden":false,"merged":[]}
["U16 SetUp page",null,null,"Tennis Europe\nJunior Tour"]
["DO NOT DELETE THIS PAGE !!!"]
[]
["FILL IN ALL GREEN FIELDS BELOW"]
["Tournament Title (full name)"]
["ARCADIAN TENNIS OPEN 2016",null,null,null,"2006 v1.2"]
["Event Category"]
["Arcadian Tennis Open 2016"]
["Week of (Monday). Use format, 15/01/2006 (day/month/year)",null,"City, Country","Category","Referee"]
["7-22/5/2016",null,"ΤΡΙΠΟΛΗ","DOUBLES MIX","ΓΚΟΥΝΤΑΝΗ Γ./ΧΑΤΖΗΓΙΑΝΝΗ Γ."]
[]
[]
[]
[]
["Copyright © Tennis Europe, courtesy of ITF Limited, trading as the International Tennis Federation, 2006"]
["All rights reserved. Reproduction of this work in whole or in part, without the prior permission of the ITF/Tennis Europe is prohibited."]
["Inquiries and comments to:","stephaniek@tenniseurope.org"]

{"sheet":"SetUp Officials","index":1,"n_rows":30,"n_cols":16,"rows_kept":30,"cut":false,"hidden":false,"merged":[[5,0,5,1]]}
[{"$f":"'Week SetUp'!$A$6","v":"ARCADIAN TENNIS OPEN 2016"}]
[{"$f":"'Week SetUp'!$A$8","v":"Arcadian Tennis Open 2016"}]
[null,"SETUP OFFICIALS"]
["Week of","City, Country"]
[{"$f":"'Week SetUp'!$A$10","v":"7-22/5/2016"},{"$f":"'Week SetUp'!$C$10","v":"ΤΡΙΠΟΛΗ"}]
["Fill in the names of the main 8 Chair Umpires in the green fields below. These names will then appear in dropdown lists in the draws. This way you can easily keep track of the Umpire for each match in the tournament."]
[]
[]
[]
[]
[]
[]
[]
[]
[]
[]
[]
[]
[]
["CHAIR UMPIRES"]
["Family name","First name",null,null,null,null,null,null,null,null,null,null,null,null,null,"Umpire"]
[null,null,null,null,null,null,null,null,null,null,null,null,null,null,null,{"$f":"LEFT(B22,1)&\" \"&A22","v":" "}]
[null,null,null,null,null,null,null,null,null,null,null,null,null,null,null," "]
[null,null,null,null,null,null,null,null,null,null,null,null,null,null,null," "]
[null,null,null,null,null,null,null,null,null,null,null,null,null,null,null," "]
[null,null,null,null,null,null,null,null,null,null,null,null,null,null,null," "]
[null,null,null,null,null,null,null,null,null,null,null,null,null,null,null," "]
[null,null,null,null,null,null,null,null,null,null,null,null,null,null,null," "]
[null,null,null,null,null,null,null,null,null,null,null,null,null,null,null," "]
[null,null,null,null,null,null,null,null,null,null,null,null,null,null,null,"None"]

{"sheet":"B16 Do Main 16","index":2,"n_rows":79,"n_cols":20,"rows_kept":79,"cut":false,"hidden":false,"merged":[[3,0,3,2]]}
["ΚΟΛΟΚΟΤΡΩΝΕΙΑ 2017",null,null,null,null,null,null,null,null,null,null,null,null,"CU"]
["TRIPOLIS TENNIS OPEN",null,null,null,null,null,null,"MAIN DRAW ΜΕΝ DOUBLES"]
["Week of",null,null,null,null,"City, Country",null,null,null,null,null,"Tourn. ID",null,null,null,null,"ITF Referee"]
[null,null,null,null,"ΤΡΙΠΟΛΗ - AEK ΤΡΙΠΟΛΗΣ - Tennis Cup",null,null,null,null,null,null,"open",null,"ΠΑΠΑΔΟΠΟΥΛΟΣ - ΧΑΤΖΗΓΙΑΝΝΗ"]
[null,"St.",{"$f":"IF(OR(F2=\"Week 3\",F2=\"Masters\"),\"CP\",\"Rank\")","v":"Rank"},"Seed","Family Name","First name",null,"Nationality",null,"2nd Round",null,"Semifinals",null,"Final",null,"Winners"]
[]
[1,{"$f":"IF($D7=\"\",\"\",VLOOKUP($D7,#REF!,20))","v":""},{"$f":"IF($D7=\"\",\"\",VLOOKUP($D7,#REF!,21))","v":""},null,"ARLOTTA-ΠΑΠΑΒΑΣΙΛΕΙΟΥ",{"$f":"IF($D7=\"\",\"\",VLOOKUP($D7,#REF!,3))","v":""},null,{"$f":"IF($D7=\"\",\"\",VLOOKUP($D7,#REF!,4))","v":""},null,null,null,null,null,null,null,null,null,null,null,{"$f":"'SetUp Officials'!P21","v":"Umpire"}]
[null,null,null,null,{"$f":"UPPER(IF($D7=\"\",\"\",VLOOKUP($D7,#REF!,7)))","v":""},{"$f":"IF($D7=\"\",\"\",VLOOKUP($D7,#REF!,8))","v":""},null,{"$f":"IF($D7=\"\",\"\",VLOOKUP($D7,#REF!,9))","v":""},null,{"$f":"IF(I8=\"a\",E7,IF(I8=\"b\",E9,\"\"))","v":""},null,null,null,null,null,null,null,null,null,{"$f":"'SetUp Officials'!P22","v":" "}]
[null,null,null,null,null,null,null,null,null,{"$f":"UPPER(IF(OR(I10=\"a\",I10=\"as\"),E7,IF(OR(I10=\"b\",I10=\"bs\"),E11,)))","v":""},null,null,null,null,null,null,null,null,null,{"$f":"'SetUp Officials'!P23","v":" "}]
[null,null,null,null,null,null,null,"Umpire",null,"ARLOTTA-ΠΑΠΑΒΑΣΙΛΕΙΟΥ",null,null,null,null,null,null,null,null,null,{"$f":"'SetUp Officials'!P24","v":" "}]
[2,{"$f":"IF($D11=\"\",\"\",VLOOKUP($D11,#REF!,20))","v":""},{"$f":"IF($D11=\"\",\"\",VLOOKUP($D11,#REF!,21))","v":""},null,"BYE",{"$f":"IF($D11=\"\",\"\",VLOOKUP($D11,#REF!,3))","v":""},null,{"$f":"IF($D11=\"\",\"\",VLOOKUP($D11,#REF!,4))","v":""},null,null,null,null,null,null,null,null,null,null,null,{"$f":"'SetUp Officials'!P25","v":" "}]
[null,null,null,null,{"$f":"UPPER(IF($D11=\"\",\"\",VLOOKUP($D11,#REF!,7)))","v":""},{"$f":"IF($D11=\"\",\"\",VLOOKUP($D11,#REF!,8))","v":""},null,{"$f":"IF($D11=\"\",\"\",VLOOKUP($D11,#REF!,9))","v":""},null,null,null,null,null,null,null,null,null,null,null,{"$f":"'SetUp Officials'!P26","v":" "}]
[null,null,null,null,null,null,null,null,null,null,null,{"$f":"UPPER(IF(OR(K14=\"a\",K14=\"as\"),J9,IF(OR(K14=\"b\",K14=\"bs\"),J17,)))","v":""},null,null,null,null,null,null,null,{"$f":"'SetUp Officials'!P27","v":" "}]
[null,null,null,null,null,null,null,null,null,"Umpire",null,"ARLOTTA-ΠΑΠΑΒΑΣΙΛΕΙΟΥ",null,null,null,null,null,null,null,{"$f":"'SetUp Officials'!P28","v":" "}]
[3,{"$f":"IF($D15=\"\",\"\",VLOOKUP($D15,#REF!,20))","v":""},{"$f":"IF($D15=\"\",\"\",VLOOKUP($D15,#REF!,21))","v":""},null,"BYE",{"$f":"IF($D15=\"\",\"\",VLOOKUP($D15,#REF!,3))","v":""},null,{"$f":"IF($D15=\"\",\"\",VLOOKUP($D15,#REF!,4))","v":""},null,null,null,"61 61",null,null,null,null,null,null,null,{"$f":"'SetUp Officials'!P29","v":" "}]
[null,null,null,null,{"$f":"UPPER(IF($D15=\"\",\"\",VLOOKUP($D15,#REF!,7)))","v":""},{"$f":"IF($D15=\"\",\"\",VLOOKUP($D15,#REF!,8))","v":""},null,{"$f":"IF($D15=\"\",\"\",VLOOKUP($D15,#REF!,9))","v":""},null,{"$f":"IF(I16=\"a\",E15,IF(I16=\"b\",E17,\"\"))","v":""},null,null,null,null,null,null,null,null,null,{"$f":"'SetUp Officials'!P30","v":"None"}]
[null,null,null,null,null,null,null,null,null,{"$f":"UPPER(IF(OR(I18=\"a\",I18=\"as\"),E15,IF(OR(I18=\"b\",I18=\"bs\"),E19,)))","v":""}]
[null,null,null,null,null,null,null,"Umpire",null,"ΘΕΟΔΩΡΟΠΟΥΛΟΣ-ΠΑΙΚΟΥΛΑΣ"]
[4,{"$f":"IF($D19=\"\",\"\",VLOOKUP($D19,#REF!,20))","v":""},{"$f":"IF($D19=\"\",\"\",VLOOKUP($D19,#REF!,21))","v":""},null,"ΘΕΟΔΩΡΟΠΟΥΛΟΣ-ΠΑΙΚΟΥΛΑΣ",{"$f":"IF($D19=\"\",\"\",VLOOKUP($D19,#REF!,3))","v":""},null,{"$f":"IF($D19=\"\",\"\",VLOOKUP($D19,#REF!,4))","v":""}]
[null,null,null,null,{"$f":"UPPER(IF($D19=\"\",\"\",VLOOKUP($D19,#REF!,7)))","v":""},{"$f":"IF($D19=\"\",\"\",VLOOKUP($D19,#REF!,8))","v":""},null,{"$f":"IF($D19=\"\",\"\",VLOOKUP($D19,#REF!,9))","v":""}]
[null,null,null,null,null,null,null,null,null,null,null,null,null,{"$f":"UPPER(IF(OR(M22=\"a\",M22=\"as\"),L13,IF(OR(M22=\"b\",M22=\"bs\"),L29,)))","v":""}]
[null,null,null,null,null,null,null,null,null,null,null,"Umpire",null,"ARLOTTA-ΠΑΠΑΒΑΣΙΛΕΙΟΥ"]
[5,{"$f":"IF($D23=\"\",\"\",VLOOKUP($D23,#REF!,20))","v":""},{"$f":"IF($D23=\"\",\"\",VLOOKUP($D23,#REF!,21))","v":""},null,"ΤΖΙΝΗΣ-ΣΠΥΡΑΚΗΣ",{"$f":"IF($D23=\"\",\"\",VLOOKUP($D23,#REF!,3))","v":""},null,{"$f":"IF($D23=\"\",\"\",VLOOKUP($D23,#REF!,4))","v":""},null,null,null,null,null,"62 75"]
[null,null,null,null,{"$f":"UPPER(IF($D23=\"\",\"\",VLOOKUP($D23,#REF!,7)))","v":""},{"$f":"IF($D23=\"\",\"\",VLOOKUP($D23,#REF!,8))","v":""},null,{"$f":"IF($D23=\"\",\"\",VLOOKUP($D23,#REF!,9))","v":""},null,{"$f":"IF(I24=\"a\",E23,IF(I24=\"b\",E25,\"\"))","v":""}]
[null,null,null,null,null,null,null,null,null,{"$f":"UPPER(IF(OR(I26=\"a\",I26=\"as\"),E23,IF(OR(I26=\"b\",I26=\"bs\"),E27,)))","v":""}]
[null,null,null,null,null,null,null,"Umpire",null,"ΤΖΙΝΗΣ-ΣΠΥΡΑΚΗΣ"]
[6,{"$f":"IF($D27=\"\",\"\",VLOOKUP($D27,#REF!,20))","v":""},{"$f":"IF($D27=\"\",\"\",VLOOKUP($D27,#REF!,21))","v":""},null,"BYE",{"$f":"IF($D27=\"\",\"\",VLOOKUP($D27,#REF!,3))","v":""},null,{"$f":"IF($D27=\"\",\"\",VLOOKUP($D27,#REF!,4))","v":""}]
[null,null,null,null,{"$f":"UPPER(IF($D27=\"\",\"\",VLOOKUP($D27,#REF!,7)))","v":""},{"$f":"IF($D27=\"\",\"\",VLOOKUP($D27,#REF!,8))","v":""},null,{"$f":"IF($D27=\"\",\"\",VLOOKUP($D27,#REF!,9))","v":""}]
[null,null,null,null,null,null,null,null,null,null,null,{"$f":"UPPER(IF(OR(K30=\"a\",K30=\"as\"),J25,IF(OR(K30=\"b\",K30=\"bs\"),J33,)))","v":""}]
[null,null,null,null,null,null,null,null,null,"Umpire",null,"ΤΖΙΝΗΣ-ΣΠΥΡΑΚΗΣ"]
[7,{"$f":"IF($D31=\"\",\"\",VLOOKUP($D31,#REF!,20))","v":""},{"$f":"IF($D31=\"\",\"\",VLOOKUP($D31,#REF!,21))","v":""},null,"ΛΑΜΠΡΟΠΟΥΛΟΣ-ΛΑΜΠΡΟΠΟΥΛΟΣ",{"$f":"IF($D31=\"\",\"\",VLOOKUP($D31,#REF!,3))","v":""},null,{"$f":"IF($D31=\"\",\"\",VLOOKUP($D31,#REF!,4))","v":""},null,null,null,"62 62"]
[null,null,null,null,{"$f":"UPPER(IF($D31=\"\",\"\",VLOOKUP($D31,#REF!,7)))","v":""},{"$f":"IF($D31=\"\",\"\",VLOOKUP($D31,#REF!,8))","v":""},null,{"$f":"IF($D31=\"\",\"\",VLOOKUP($D31,#REF!,9))","v":""},null,{"$f":"IF(I32=\"a\",E31,IF(I32=\"b\",E33,\"\"))","v":""}]
[null,null,null,null,null,null,null,null,null,{"$f":"UPPER(IF(OR(I34=\"a\",I34=\"as\"),E31,IF(OR(I34=\"b\",I34=\"bs\"),E35,)))","v":""}]
[null,null,null,null,null,null,null,"Umpire",null,"ΛΑΜΠΡΟΠΟΥΛΟΣ-ΛΑΜΠΡΟΠΟΥΛΟΣ"]
[8,{"$f":"IF($D35=\"\",\"\",VLOOKUP($D35,#REF!,20))","v":""},{"$f":"IF($D35=\"\",\"\",VLOOKUP($D35,#REF!,21))","v":""},null,"ΠΑΠΑΓΙΑΝΝΟΠΟΥΛΟΣ-ΠΑΝΣΕΛΗΝΑΣ",{"$f":"IF($D35=\"\",\"\",VLOOKUP($D35,#REF!,3))","v":""},null,{"$f":"IF($D35=\"\",\"\",VLOOKUP($D35,#REF!,4))","v":""},null,"62 61"]
[null,null,null,null,{"$f":"UPPER(IF($D35=\"\",\"\",VLOOKUP($D35,#REF!,7)))","v":""},{"$f":"IF($D35=\"\",\"\",VLOOKUP($D35,#REF!,8))","v":""},null,{"$f":"IF($D35=\"\",\"\",VLOOKUP($D35,#REF!,9))","v":""}]
[null,null,null,null,null,null,null,null,null,null,null,null,null,null,null,{"$f":"UPPER(IF(OR(O38=\"a\",O38=\"as\"),N21,IF(OR(O38=\"b\",O38=\"bs\"),N53,)))","v":""}]
[null,null,null,null,null,null,null,null,null,null,null,null,null,"Umpire",null,"ARLOTTA-ΠΑΠΑΒΑΣΙΛΕΙΟΥ"]
[9,{"$f":"IF($D39=\"\",\"\",VLOOKUP($D39,#REF!,20))","v":""},{"$f":"IF($D39=\"\",\"\",VLOOKUP($D39,#REF!,21))","v":""},null,"ΠΑΠΑΓΕΩΡΓΙΟΥ-ΠΑΠΑΝΙΚΟΛΑΟΥ",{"$f":"IF($D39=\"\",\"\",VLOOKUP($D39,#REF!,3))","v":""},null,{"$f":"IF($D39=\"\",\"\",VLOOKUP($D39,#REF!,4))","v":""},null,null,null,null,null,null,null,"62 61"]
[null,null,null,null,{"$f":"UPPER(IF($D39=\"\",\"\",VLOOKUP($D39,#REF!,7)))","v":""},{"$f":"IF($D39=\"\",\"\",VLOOKUP($D39,#REF!,8))","v":""},null,{"$f":"IF($D39=\"\",\"\",VLOOKUP($D39,#REF!,9))","v":""},null,{"$f":"IF(I40=\"a\",E39,IF(I40=\"b\",E41,\"\"))","v":""}]
[null,null,null,null,null,null,null,null,null,{"$f":"UPPER(IF(OR(I42=\"a\",I42=\"as\"),E39,IF(OR(I42=\"b\",I42=\"bs\"),E43,)))","v":""}]
[null,null,null,null,null,null,null,"Umpire",null,"ΑΝΑΣΤΟΠΟΥΛΟΣ-ΚΑΝΤΖΑΒΕΛΟΣ"]
[10,{"$f":"IF($D43=\"\",\"\",VLOOKUP($D43,#REF!,20))","v":""},{"$f":"IF($D43=\"\",\"\",VLOOKUP($D43,#REF!,21))","v":""},null,"ΑΝΑΣΤΟΠΟΥΛΟΣ-ΚΑΝΤΖΑΒΕΛΟΣ",{"$f":"IF($D43=\"\",\"\",VLOOKUP($D43,#REF!,3))","v":""},null,{"$f":"IF($D43=\"\",\"\",VLOOKUP($D43,#REF!,4))","v":""},null,"36 75 10-8"]
[null,null,null,null,{"$f":"UPPER(IF($D43=\"\",\"\",VLOOKUP($D43,#REF!,7)))","v":""},{"$f":"IF($D43=\"\",\"\",VLOOKUP($D43,#REF!,8))","v":""},null,{"$f":"IF($D43=\"\",\"\",VLOOKUP($D43,#REF!,9))","v":""}]
[null,null,null,null,null,null,null,null,null,null,null,{"$f":"UPPER(IF(OR(K46=\"a\",K46=\"as\"),J41,IF(OR(K46=\"b\",K46=\"bs\"),J49,)))","v":""}]
[null,null,null,null,null,null,null,null,null,"Umpire",null,"ΑΝΑΣΤΟΠΟΥΛΟΣ-ΚΑΝΕΛΛΟΠΟΥΛΟΣ"]
[11,{"$f":"IF($D47=\"\",\"\",VLOOKUP($D47,#REF!,20))","v":""},{"$f":"IF($D47=\"\",\"\",VLOOKUP($D47,#REF!,21))","v":""},null,"BYE",{"$f":"IF($D47=\"\",\"\",VLOOKUP($D47,#REF!,3))","v":""},null,{"$f":"IF($D47=\"\",\"\",VLOOKUP($D47,#REF!,4))","v":""},null,null,null,"63 26 10-7"]
[null,null,null,null,{"$f":"UPPER(IF($D47=\"\",\"\",VLOOKUP($D47,#REF!,7)))","v":""},{"$f":"IF($D47=\"\",\"\",VLOOKUP($D47,#REF!,8))","v":""},null,{"$f":"IF($D47=\"\",\"\",VLOOKUP($D47,#REF!,9))","v":""},null,{"$f":"IF(I48=\"a\",E47,IF(I48=\"b\",E49,\"\"))","v":""}]
[null,null,null,null,null,null,null,null,null,{"$f":"UPPER(IF(OR(I50=\"a\",I50=\"as\"),E47,IF(OR(I50=\"b\",I50=\"bs\"),E51,)))","v":""}]
[null,null,null,null,null,null,null,"Umpire",null,"ΑΝΑΣΤΟΠΟΥΛΟΣ-ΚΑΝΕΛΛΟΠΟΥΛΟΣ"]
[12,{"$f":"IF($D51=\"\",\"\",VLOOKUP($D51,#REF!,20))","v":""},{"$f":"IF($D51=\"\",\"\",VLOOKUP($D51,#REF!,21))","v":""},null,"ΑΝΑΣΤΟΠΟΥΛΟΣ-ΚΑΝΕΛΛΟΠΟΥΛΟΣ",{"$f":"IF($D51=\"\",\"\",VLOOKUP($D51,#REF!,3))","v":""},null,{"$f":"IF($D51=\"\",\"\",VLOOKUP($D51,#REF!,4))","v":""}]
[null,null,null,null,{"$f":"UPPER(IF($D51=\"\",\"\",VLOOKUP($D51,#REF!,7)))","v":""},{"$f":"IF($D51=\"\",\"\",VLOOKUP($D51,#REF!,8))","v":""},null,{"$f":"IF($D51=\"\",\"\",VLOOKUP($D51,#REF!,9))","v":""}]
[null,null,null,null,null,null,null,null,null,null,null,null,null,{"$f":"UPPER(IF(OR(M54=\"a\",M54=\"as\"),L45,IF(OR(M54=\"b\",M54=\"bs\"),L61,)))","v":""}]
[null,null,null,null,null,null,null,null,null,null,null,"Umpire",null,"ΛΑΜΠΡΟΠΟΥΛΟΣ-ΚΑΡΑΝΑΓΝΩΣΤΗΣ"]
[13,{"$f":"IF($D55=\"\",\"\",VLOOKUP($D55,#REF!,20))","v":""},{"$f":"IF($D55=\"\",\"\",VLOOKUP($D55,#REF!,21))","v":""},null,"ΠΑΤΡΙΝΕΛΗΣ-ΜΠΟΖΙΟΣ",{"$f":"IF($D55=\"\",\"\",VLOOKUP($D55,#REF!,3))","v":""},null,{"$f":"IF($D55=\"\",\"\",VLOOKUP($D55,#REF!,4))","v":""},null,null,null,null,null,"57 64 10-8"]
[null,null,null,null,{"$f":"UPPER(IF($D55=\"\",\"\",VLOOKUP($D55,#REF!,7)))","v":""},{"$f":"IF($D55=\"\",\"\",VLOOKUP($D55,#REF!,8))","v":""},null,{"$f":"IF($D55=\"\",\"\",VLOOKUP($D55,#REF!,9))","v":""},null,{"$f":"IF(I56=\"a\",E55,IF(I56=\"b\",E57,\"\"))","v":""}]
[null,null,null,null,null,null,null,null,null,{"$f":"UPPER(IF(OR(I58=\"a\",I58=\"as\"),E55,IF(OR(I58=\"b\",I58=\"bs\"),E59,)))","v":""}]
[null,null,null,null,null,null,null,"Umpire",null,"ΠΙΣΠΑΣ-ΚΑΝΑΚΗΣ"]
[14,{"$f":"IF($D59=\"\",\"\",VLOOKUP($D59,#REF!,20))","v":""},{"$f":"IF($D59=\"\",\"\",VLOOKUP($D59,#REF!,21))","v":""},null,"ΠΙΣΠΑΣ-ΚΑΝΑΚΗΣ",{"$f":"IF($D59=\"\",\"\",VLOOKUP($D59,#REF!,3))","v":""},null,{"$f":"IF($D59=\"\",\"\",VLOOKUP($D59,#REF!,4))","v":""},null,"76 67 10-1"]
[null,null,null,null,{"$f":"UPPER(IF($D59=\"\",\"\",VLOOKUP($D59,#REF!,7)))","v":""},{"$f":"IF($D59=\"\",\"\",VLOOKUP($D59,#REF!,8))","v":""},null,{"$f":"IF($D59=\"\",\"\",VLOOKUP($D59,#REF!,9))","v":""}]
[null,null,null,null,null,null,null,null,null,null,null,{"$f":"UPPER(IF(OR(K62=\"a\",K62=\"as\"),J57,IF(OR(K62=\"b\",K62=\"bs\"),J65,)))","v":""}]
[null,null,null,null,null,null,null,null,null,"Umpire",null,"ΛΑΜΠΡΟΠΟΥΛΟΣ-ΚΑΡΑΝΑΓΝΩΣΤΗΣ"]
[15,{"$f":"IF($D63=\"\",\"\",VLOOKUP($D63,#REF!,20))","v":""},{"$f":"IF($D63=\"\",\"\",VLOOKUP($D63,#REF!,21))","v":""},null,"BYE",{"$f":"IF($D63=\"\",\"\",VLOOKUP($D63,#REF!,3))","v":""},null,{"$f":"IF($D63=\"\",\"\",VLOOKUP($D63,#REF!,4))","v":""},null,null,null,"62 60"]
[null,null,null,null,{"$f":"UPPER(IF($D63=\"\",\"\",VLOOKUP($D63,#REF!,7)))","v":""},{"$f":"IF($D63=\"\",\"\",VLOOKUP($D63,#REF!,8))","v":""},null,{"$f":"IF($D63=\"\",\"\",VLOOKUP($D63,#REF!,9))","v":""},null,{"$f":"IF(I64=\"a\",E63,IF(I64=\"b\",E65,\"\"))","v":""}]
[null,null,null,null,null,null,null,null,null,{"$f":"UPPER(IF(OR(I66=\"a\",I66=\"as\"),E63,IF(OR(I66=\"b\",I66=\"bs\"),E67,)))","v":""}]
[null,null,null,null,null,null,null,"Umpire",null,"ΛΑΜΠΡΟΠΟΥΛΟΣ-ΚΑΡΑΝΑΓΝΩΣΤΗΣ"]
[16,{"$f":"IF($D67=\"\",\"\",VLOOKUP($D67,#REF!,20))","v":""},{"$f":"IF($D67=\"\",\"\",VLOOKUP($D67,#REF!,21))","v":""},null,"ΛΑΜΠΡΟΠΟΥΛΟΣ-ΚΑΡΑΝΑΓΝΩΣΤΗΣ",{"$f":"IF($D67=\"\",\"\",VLOOKUP($D67,#REF!,3))","v":""},null,{"$f":"IF($D67=\"\",\"\",VLOOKUP($D67,#REF!,4))","v":""}]
[null,null,null,null,{"$f":"UPPER(IF($D67=\"\",\"\",VLOOKUP($D67,#REF!,7)))","v":""},{"$f":"IF($D67=\"\",\"\",VLOOKUP($D67,#REF!,8))","v":""},null,{"$f":"IF($D67=\"\",\"\",VLOOKUP($D67,#REF!,9))","v":""}]
[]
[]
["Acc. Ranking",null,null,"#","Seeded teams",null,null,null,"#","Alternates",null,"Replacing",null,"Draw date/time:"]
["Rkg Date",null,null,1,{"$f":"IF(D72>$Q$79,,UPPER(VLOOKUP(D72,#REF!,2)))","v":{"$error":"#REF!"}},null,null,null,"1",null,null,null,null,"Last Accepted team"]
["Last DA",null,null,null,{"$f":"IF(D72>$Q$79,,UPPER(VLOOKUP(D72,#REF!,7)))","v":{"$error":"#REF!"}}]
[null,null,null,2,{"$f":"IF(D74>$Q$79,,UPPER(VLOOKUP(D74,#REF!,2)))","v":{"$error":"#REF!"}},null,null,null,"2",null,null,null,null,"Player representatives"]
[null,null,null,null,{"$f":"IF(D74>$Q$79,,UPPER(VLOOKUP(D74,#REF!,7)))","v":{"$error":"#REF!"}}]
[null,null,null,3,{"$f":"IF(D76>$Q$79,,UPPER(VLOOKUP(D76,#REF!,2)))","v":{"$error":"#REF!"}},null,null,null,"3"]
[null,null,null,null,{"$f":"IF(D76>$Q$79,,UPPER(VLOOKUP(D76,#REF!,7)))","v":{"$error":"#REF!"}},null,null,null,null,null,null,null,null,"Referee's signature"]
[null,null,null,4,{"$f":"IF(D78>$Q$79,,UPPER(VLOOKUP(D78,#REF!,2)))","v":{"$error":"#REF!"}},null,null,null,"4"]
[null,null,null,null,{"$f":"IF(D78>$Q$79,,UPPER(VLOOKUP(D78,#REF!,7)))","v":{"$error":"#REF!"}},null,null,null,null,null,null,null,null,{"$f":"Q4","v":0},null,null,{"$f":"MIN(4,#REF!)","v":{"$error":"#REF!"}}]